Workbook

Sheet Invividual
J1: 3 | K1: 4 | L1: 5 | M1: 6 | N1: 7 | O1: 8 | P1: 9 | Q1: 10 | R1: 11 | S1: 12 | T1: 13 | U1: 14 | V1: 15 | W1: 16 | X1: 17 | Y1: 18 | Z1: 19 | AA1: 20 | AB1: 21 | AC1: 22 | AD1: 23 | AE1: 24 | AI1: 27 | AJ1: 28 | AK1: 29 | AL1: 30 | AM1: 31 | AN1: 32 | AO1: 33 | AP1: 34 | AQ1: 35 | AR1: 36 | AS1: 37 | AT1: 38 | AU1: 39 | AV1: 40
H2: 1) | S2: March past club score added to Total Club score - 6, 3, 2, 1
H3: 2) | S3: Rider points allocated from 10 down - individual championship does include "pairs"
H4: 3) | S4: Count back = Most 1st, most 2nd continuing
H5: 4)
H6: 5) | AJ6: Club Points Check
H7: 6) | AJ7: =SUM(AL17:AL127) -> 2460 | AK7: =EXACT($AJ$7,'Club Scores'!$D$54) -> FALSE
AJ13: =NOW() -> 46265.82 | AL13: Exc Pairs | AM13: Exc Pairs
A14: Prim Sort | B14: Entry | C14: Rider Notes | D14: Zone1 | E14: 1st Time | F14: Cls | G14: Age Group | H14: Rider | I14: Rider Name | J14: Horse | K14: Club | L14: Pres Horse & Rider | N14: Rider Class | P14: Pony Club Mount | R14: AM7 jumping | T14: Stock Horse | W14: Diamond Flag | Z14: Scudda Ho | AC14: Running T | AJ14: Total Rider Points | AK14: Rider Placing | AL14: Club Points | AM14: Champ Rider | AN14: Countback Check
A15: Sort | L15: Place | M15: Points | N15: Place | O15: Points | P15: Place | Q15: Points | R15: Place | S15: Points | T15: Time | U15: Place | V15: Points | W15: Time | X15: Place | Y15: Points | Z15: Time | AA15: Place | AB15: Points | AC15: Time | AD15: Place | AE15: Points | AF15: Time | AG15: Place | AH15: Points
A16: 1 | H16: Group 8 yrs & Under AIDED | AK16: FINAL
A17: 21 | F17: 2 | G17: 9yrs - 10yrs | H17: 1 | I17: Valentina Milzewski | J17: Flirtatious | K17: Runcorn | M17: =IF(L17=0,,IF(L17>10,,11-(L17))) -> 0 | O17: =IF(N17=0,,IF(N17>10,,11-(N17))) -> 0 | Q17: =IF(P17=0,,IF(P17>10,,11-(P17))) -> 0 | S17: =IF(R17=0,,IF(R17>10,,11-(R17))) -> 0 | V17: =IF(U17=0,,IF(U17>10,,11-(U17))) -> 0 | Y17: =IF(X17=0,,IF(X17>10,,11-(X17))) -> 0 | AB17: =IF(AA17=0,,IF(AA17>10,,11-(AA17))) -> 0 | AE17: =IF(AD17=0,,IF(AD17>10,,11-(AD17))) -> 0 | AH17: =IF(AG17=0,,IF(AG17>10,,11-(AG17))) -> 0 | AJ17: =M17+O17+Q17+V17+Y17+AB17+AE17+S17+AH17 -> 0 | AL17: =M17+O17+Q17+V17+Y17+AB17+AE17+S17+AH17 -> 0 | AM17: =M17+O17+Q17+V17+Y17+AB17+AE17+S17+AH17 -> 0 | AN17: =L17 -> 0 | AO17: =N17 -> 0 | AP17: =P17 -> 0 | AQ17: =R17 -> 0 | AR17: =U17 -> 0 | AS17: =X17 -> 0 | AT17: =AA17 -> 0 | AU17: =AD17 -> 0 | AV17: =AG17 -> 0
H18: 2 | I18: Ella Caffery | J18: Charlie | K18: Runcorn | M18: =IF(L18=0,,IF(L18>10,,11-(L18))) -> 0 | O18: =IF(N18=0,,IF(N18>10,,11-(N18))) -> 0 | Q18: =IF(P18=0,,IF(P18>10,,11-(P18))) -> 0 | S18: =IF(R18=0,,IF(R18>10,,11-(R18))) -> 0 | V18: =IF(U18=0,,IF(U18>10,,11-(U18))) -> 0 | Y18: =IF(X18=0,,IF(X18>10,,11-(X18))) -> 0 | AB18: =IF(AA18=0,,IF(AA18>10,,11-(AA18))) -> 0 | AE18: =IF(AD18=0,,IF(AD18>10,,11-(AD18))) -> 0 | AH18: =IF(AG18=0,,IF(AG18>10,,11-(AG18))) -> 0 | AJ18: =M18+O18+Q18+V18+Y18+AB18+AE18+S18+AH18 -> 0 | AL18: =M18+O18+Q18+V18+Y18+AB18+AE18+S18+AH18 -> 0 | AM18: =M18+O18+Q18+V18+Y18+AB18+AE18+S18+AH18 -> 0 | AN18: =L18 -> 0 | AO18: =N18 -> 0 | AP18: =P18 -> 0 | AQ18: =R18 -> 0 | AR18: =U18 -> 0 | AS18: =X18 -> 0 | AT18: =AA18 -> 0 | AU18: =AD18 -> 0 | AV18: =AG18 -> 0
H19: 3 | I19: Ruby Medcalf | J19: Snickers | K19: Southside | M19: =IF(L19=0,,IF(L19>10,,11-(L19))) -> 0 | O19: =IF(N19=0,,IF(N19>10,,11-(N19))) -> 0 | Q19: =IF(P19=0,,IF(P19>10,,11-(P19))) -> 0 | S19: =IF(R19=0,,IF(R19>10,,11-(R19))) -> 0 | V19: =IF(U19=0,,IF(U19>10,,11-(U19))) -> 0 | Y19: =IF(X19=0,,IF(X19>10,,11-(X19))) -> 0 | AB19: =IF(AA19=0,,IF(AA19>10,,11-(AA19))) -> 0 | AE19: =IF(AD19=0,,IF(AD19>10,,11-(AD19))) -> 0 | AH19: =IF(AG19=0,,IF(AG19>10,,11-(AG19))) -> 0 | AJ19: =M19+O19+Q19+V19+Y19+AB19+AE19+S19+AH19 -> 0 | AL19: =M19+O19+Q19+V19+Y19+AB19+AE19+S19+AH19 -> 0 | AM19: =M19+O19+Q19+V19+Y19+AB19+AE19+S19+AH19 -> 0 | AN19: =L19 -> 0 | AO19: =N19 -> 0 | AP19: =P19 -> 0 | AQ19: =R19 -> 0 | AR19: =U19 -> 0 | AS19: =X19 -> 0 | AT19: =AA19 -> 0 | AU19: =AD19 -> 0 | AV19: =AG19 -> 0
A20: 21 | F20: 2 | G20: 9yrs - 10yrs | H20: 4 | I20: Bonnie Brown | J20: Bentley | K20: Northern Suburbs | M20: =IF(L20=0,,IF(L20>10,,11-(L20))) -> 0 | O20: =IF(N20=0,,IF(N20>10,,11-(N20))) -> 0 | Q20: =IF(P20=0,,IF(P20>10,,11-(P20))) -> 0 | S20: =IF(R20=0,,IF(R20>10,,11-(R20))) -> 0 | V20: =IF(U20=0,,IF(U20>10,,11-(U20))) -> 0 | Y20: =IF(X20=0,,IF(X20>10,,11-(X20))) -> 0 | AB20: =IF(AA20=0,,IF(AA20>10,,11-(AA20))) -> 0 | AE20: =IF(AD20=0,,IF(AD20>10,,11-(AD20))) -> 0 | AH20: =IF(AG20=0,,IF(AG20>10,,11-(AG20))) -> 0 | AJ20: =M20+O20+Q20+V20+Y20+AB20+AE20+S20+AH20 -> 0 | AL20: =M20+O20+Q20+V20+Y20+AB20+AE20+S20+AH20 -> 0 | AM20: =M20+O20+Q20+V20+Y20+AB20+AE20+S20+AH20 -> 0 | AN20: =L20 -> 0 | AO20: =N20 -> 0 | AP20: =P20 -> 0 | AQ20: =R20 -> 0 | AR20: =U20 -> 0 | AS20: =X20 -> 0 | AT20: =AA20 -> 0 | AU20: =AD20 -> 0 | AV20: =AG20 -> 0
H21: 5 | I21: Mila Ionescu | J21: Pennylane Marigold | K21: Wynnum | M21: =IF(L21=0,,IF(L21>10,,11-(L21))) -> 0 | O21: =IF(N21=0,,IF(N21>10,,11-(N21))) -> 0 | Q21: =IF(P21=0,,IF(P21>10,,11-(P21))) -> 0 | S21: =IF(R21=0,,IF(R21>10,,11-(R21))) -> 0 | V21: =IF(U21=0,,IF(U21>10,,11-(U21))) -> 0 | Y21: =IF(X21=0,,IF(X21>10,,11-(X21))) -> 0 | AB21: =IF(AA21=0,,IF(AA21>10,,11-(AA21))) -> 0 | AE21: =IF(AD21=0,,IF(AD21>10,,11-(AD21))) -> 0 | AH21: =IF(AG21=0,,IF(AG21>10,,11-(AG21))) -> 0 | AJ21: =M21+O21+Q21+V21+Y21+AB21+AE21+S21+AH21 -> 0 | AL21: =M21+O21+Q21+V21+Y21+AB21+AE21+S21+AH21 -> 0 | AM21: =M21+O21+Q21+V21+Y21+AB21+AE21+S21+AH21 -> 0 | AN21: =L21 -> 0 | AO21: =N21 -> 0 | AP21: =P21 -> 0 | AQ21: =R21 -> 0 | AR21: =U21 -> 0 | AS21: =X21 -> 0 | AT21: =AA21 -> 0 | AU21: =AD21 -> 0 | AV21: =AG21 -> 0
H22: 6 | I22: Milton Kennedy | J22: Missy | K22: Southside | M22: =IF(L22=0,,IF(L22>10,,11-(L22))) -> 0 | O22: =IF(N22=0,,IF(N22>10,,11-(N22))) -> 0 | Q22: =IF(P22=0,,IF(P22>10,,11-(P22))) -> 0 | S22: =IF(R22=0,,IF(R22>10,,11-(R22))) -> 0 | V22: =IF(U22=0,,IF(U22>10,,11-(U22))) -> 0 | Y22: =IF(X22=0,,IF(X22>10,,11-(X22))) -> 0 | AB22: =IF(AA22=0,,IF(AA22>10,,11-(AA22))) -> 0 | AE22: =IF(AD22=0,,IF(AD22>10,,11-(AD22))) -> 0 | AH22: =IF(AG22=0,,IF(AG22>10,,11-(AG22))) -> 0 | AJ22: =M22+O22+Q22+V22+Y22+AB22+AE22+S22+AH22 -> 0 | AL22: =M22+O22+Q22+V22+Y22+AB22+AE22+S22+AH22 -> 0 | AM22: =M22+O22+Q22+V22+Y22+AB22+AE22+S22+AH22 -> 0 | AN22: =L22 -> 0 | AO22: =N22 -> 0 | AP22: =P22 -> 0 | AQ22: =R22 -> 0 | AR22: =U22 -> 0 | AS22: =X22 -> 0 | AT22: =AA22 -> 0 | AU22: =AD22 -> 0 | AV22: =AG22 -> 0
A23: 21 | F23: 2 | G23: 9yrs - 10yrs | H23: 7 | I23: Sienna Horn | J23: Bear | K23: Runcorn | M23: =IF(L23=0,,IF(L23>10,,11-(L23))) -> 0 | O23: =IF(N23=0,,IF(N23>10,,11-(N23))) -> 0 | Q23: =IF(P23=0,,IF(P23>10,,11-(P23))) -> 0 | S23: =IF(R23=0,,IF(R23>10,,11-(R23))) -> 0 | V23: =IF(U23=0,,IF(U23>10,,11-(U23))) -> 0 | Y23: =IF(X23=0,,IF(X23>10,,11-(X23))) -> 0 | AB23: =IF(AA23=0,,IF(AA23>10,,11-(AA23))) -> 0 | AE23: =IF(AD23=0,,IF(AD23>10,,11-(AD23))) -> 0 | AH23: =IF(AG23=0,,IF(AG23>10,,11-(AG23))) -> 0 | AJ23: =M23+O23+Q23+V23+Y23+AB23+AE23+S23+AH23 -> 0 | AL23: =M23+O23+Q23+V23+Y23+AB23+AE23+S23+AH23 -> 0 | AM23: =M23+O23+Q23+V23+Y23+AB23+AE23+S23+AH23 -> 0 | AN23: =L23 -> 0 | AO23: =N23 -> 0 | AP23: =P23 -> 0 | AQ23: =R23 -> 0 | AR23: =U23 -> 0 | AS23: =X23 -> 0 | AT23: =AA23 -> 0 | AU23: =AD23 -> 0 | AV23: =AG23 -> 0
H24: 8 | I24: Aubree Makemson | J24: Stormy | K24: Southside | M24: =IF(L24=0,,IF(L24>10,,11-(L24))) -> 0 | O24: =IF(N24=0,,IF(N24>10,,11-(N24))) -> 0 | Q24: =IF(P24=0,,IF(P24>10,,11-(P24))) -> 0 | S24: =IF(R24=0,,IF(R24>10,,11-(R24))) -> 0 | V24: =IF(U24=0,,IF(U24>10,,11-(U24))) -> 0 | Y24: =IF(X24=0,,IF(X24>10,,11-(X24))) -> 0 | AB24: =IF(AA24=0,,IF(AA24>10,,11-(AA24))) -> 0 | AE24: =IF(AD24=0,,IF(AD24>10,,11-(AD24))) -> 0 | AH24: =IF(AG24=0,,IF(AG24>10,,11-(AG24))) -> 0 | AJ24: =M24+O24+Q24+V24+Y24+AB24+AE24+S24+AH24 -> 0 | AL24: =M24+O24+Q24+V24+Y24+AB24+AE24+S24+AH24 -> 0 | AM24: =M24+O24+Q24+V24+Y24+AB24+AE24+S24+AH24 -> 0 | AN24: =L24 -> 0 | AO24: =N24 -> 0 | AP24: =P24 -> 0 | AQ24: =R24 -> 0 | AR24: =U24 -> 0 | AS24: =X24 -> 0 | AT24: =AA24 -> 0 | AU24: =AD24 -> 0 | AV24: =AG24 -> 0
H25: 9 | I25: Madeline Makemson | J25: Belle | K25: Southside | M25: =IF(L25=0,,IF(L25>10,,11-(L25))) -> 0 | O25: =IF(N25=0,,IF(N25>10,,11-(N25))) -> 0 | Q25: =IF(P25=0,,IF(P25>10,,11-(P25))) -> 0 | S25: =IF(R25=0,,IF(R25>10,,11-(R25))) -> 0 | V25: =IF(U25=0,,IF(U25>10,,11-(U25))) -> 0 | Y25: =IF(X25=0,,IF(X25>10,,11-(X25))) -> 0 | AB25: =IF(AA25=0,,IF(AA25>10,,11-(AA25))) -> 0 | AE25: =IF(AD25=0,,IF(AD25>10,,11-(AD25))) -> 0 | AH25: =IF(AG25=0,,IF(AG25>10,,11-(AG25))) -> 0 | AJ25: =M25+O25+Q25+V25+Y25+AB25+AE25+S25+AH25 -> 0 | AL25: =M25+O25+Q25+V25+Y25+AB25+AE25+S25+AH25 -> 0 | AM25: =M25+O25+Q25+V25+Y25+AB25+AE25+S25+AH25 -> 0 | AN25: =L25 -> 0 | AO25: =N25 -> 0 | AP25: =P25 -> 0 | AQ25: =R25 -> 0 | AR25: =U25 -> 0 | AS25: =X25 -> 0 | AT25: =AA25 -> 0 | AU25: =AD25 -> 0 | AV25: =AG25 -> 0
A26: 1 | H26: Group 8 yrs & Under | AK26: FINAL | AN26: =L26 -> 0 | AO26: =N26 -> 0 | AP26: =P26 -> 0 | AQ26: =R26 -> 0 | AR26: =U26 -> 0 | AS26: =X26 -> 0 | AT26: =AA26 -> 0 | AU26: =AD26 -> 0 | AV26: =AG26 -> 0
A27: 21 | F27: 2 | G27: 9yrs - 10yrs | H27: 15 | I27: Bonnie Osborne | J27: Loriot Lyrical | K27: Rosewood | L27: 1 | M27: =IF(L27=0,,IF(L27>10,,11-(L27))) -> 10 | N27: 1 | O27: =IF(N27=0,,IF(N27>10,,11-(N27))) -> 10 | P27: 1 | Q27: =IF(P27=0,,IF(P27>10,,11-(P27))) -> 10 | R27: 1 | S27: =IF(R27=0,,IF(R27>10,,11-(R27))) -> 10 | T27: 21 | U27: 2 | V27: =IF(U27=0,,IF(U27>10,,11-(U27))) -> 9 | W27: 31.82 | X27: 3 | Y27: =IF(X27=0,,IF(X27>10,,11-(X27))) -> 8 | Z27: 27.35 | AA27: 2 | AB27: =IF(AA27=0,,IF(AA27>10,,11-(AA27))) -> 9 | AC27: 22.82 | AD27: 3 | AE27: =IF(AD27=0,,IF(AD27>10,,11-(AD27))) -> 8 | AH27: =IF(AG27=0,,IF(AG27>10,,11-(AG27))) -> 0 | AJ27: =M27+O27+Q27+V27+Y27+AB27+AE27+S27+AH27 -> 74 | AK27: 1 | AL27: =M27+O27+Q27+V27+Y27+AB27+AE27+S27+AH27 -> 74 | AM27: =M27+O27+Q27+V27+Y27+AB27+AE27+S27+AH27 -> 74 | AN27: =L27 -> 1 | AO27: =N27 -> 1 | AP27: =P27 -> 1 | AQ27: =R27 -> 1 | AR27: =U27 -> 2 | AS27: =X27 -> 3 | AT27: =AA27 -> 2 | AU27: =AD27 -> 3 | AV27: =AG27 -> 0
H28: 14 | I28: Scarlett Kerr | J28: Patience | K28: Burpengary | L28: 3 | M28: =IF(L28=0,,IF(L28>10,,11-(L28))) -> 8 | N28: 5 | O28: =IF(N28=0,,IF(N28>10,,11-(N28))) -> 6 | P28: 5 | Q28: =IF(P28=0,,IF(P28>10,,11-(P28))) -> 6 | R28: 2 | S28: =IF(R28=0,,IF(R28>10,,11-(R28))) -> 9 | T28: 19.29 | U28: 1 | V28: =IF(U28=0,,IF(U28>10,,11-(U28))) -> 10 | W28: 28.1 | X28: 1 | Y28: =IF(X28=0,,IF(X28>10,,11-(X28))) -> 10 | Z28: 23.09 | AA28: 1 | AB28: =IF(AA28=0,,IF(AA28>10,,11-(AA28))) -> 10 | AC28: 20.16 | AD28: 1 | AE28: =IF(AD28=0,,IF(AD28>10,,11-(AD28))) -> 10 | AH28: =IF(AG28=0,,IF(AG28>10,,11-(AG28))) -> 0 | AJ28: =M28+O28+Q28+V28+Y28+AB28+AE28+S28+AH28 -> 69 | AK28: 2 | AL28: =M28+O28+Q28+V28+Y28+AB28+AE28+S28+AH28 -> 69 | AM28: =M28+O28+Q28+V28+Y28+AB28+AE28+S28+AH28 -> 69 | AN28: =L28 -> 3 | AO28: =N28 -> 5 | AP28: =P28 -> 5 | AQ28: =R28 -> 2 | AR28: =U28 -> 1 | AS28: =X28 -> 1 | AT28: =AA28 -> 1 | AU28: =AD28 -> 1 | AV28: =AG28 -> 0
H29: 16 | I29: Annie Smith | J29: Little Red | K29: Dayboro | L29: 2 | M29: =IF(L29=0,,IF(L29>10,,11-(L29))) -> 9 | N29: 2 | O29: =IF(N29=0,,IF(N29>10,,11-(N29))) -> 9 | P29: 2 | Q29: =IF(P29=0,,IF(P29>10,,11-(P29))) -> 9 | R29: 3 | S29: =IF(R29=0,,IF(R29>10,,11-(R29))) -> 8 | T29: E | V29: =IF(U29=0,,IF(U29>10,,11-(U29))) -> 0 | W29: 29.41 | X29: 2 | Y29: =IF(X29=0,,IF(X29>10,,11-(X29))) -> 9 | Z29: 29.1 | AA29: 3 | AB29: =IF(AA29=0,,IF(AA29>10,,11-(AA29))) -> 8 | AC29: 22.53 | AD29: 2 | AE29: =IF(AD29=0,,IF(AD29>10,,11-(AD29))) -> 9 | AH29: =IF(AG29=0,,IF(AG29>10,,11-(AG29))) -> 0 | AJ29: =M29+O29+Q29+V29+Y29+AB29+AE29+S29+AH29 -> 61 | AK29: 3 | AL29: =M29+O29+Q29+V29+Y29+AB29+AE29+S29+AH29 -> 61 | AM29: =M29+O29+Q29+V29+Y29+AB29+AE29+S29+AH29 -> 61 | AN29: =L29 -> 2 | AO29: =N29 -> 2 | AP29: =P29 -> 2 | AQ29: =R29 -> 3 | AR29: =U29 -> 0 | AS29: =X29 -> 2 | AT29: =AA29 -> 3 | AU29: =AD29 -> 2 | AV29: =AG29 -> 0
A30: 21 | F30: 2 | G30: 9yrs - 10yrs | H30: 12 | I30: Margo Volp | J30: Willow | K30: Southside | L30: 5 | M30: =IF(L30=0,,IF(L30>10,,11-(L30))) -> 6 | N30: 3 | O30: =IF(N30=0,,IF(N30>10,,11-(N30))) -> 8 | P30: 3 | Q30: =IF(P30=0,,IF(P30>10,,11-(P30))) -> 8 | R30: 4 | S30: =IF(R30=0,,IF(R30>10,,11-(R30))) -> 7 | T30: 27.69 | U30: 3 | V30: =IF(U30=0,,IF(U30>10,,11-(U30))) -> 8 | W30: 37.18 | X30: 4 | Y30: =IF(X30=0,,IF(X30>10,,11-(X30))) -> 7 | Z30: 46.59 | AA30: 4 | AB30: =IF(AA30=0,,IF(AA30>10,,11-(AA30))) -> 7 | AC30: 30.75 | AD30: 4 | AE30: =IF(AD30=0,,IF(AD30>10,,11-(AD30))) -> 7 | AH30: =IF(AG30=0,,IF(AG30>10,,11-(AG30))) -> 0 | AJ30: =M30+O30+Q30+V30+Y30+AB30+AE30+S30+AH30 -> 58 | AL30: =M30+O30+Q30+V30+Y30+AB30+AE30+S30+AH30 -> 58 | AM30: =M30+O30+Q30+V30+Y30+AB30+AE30+S30+AH30 -> 58 | AN30: =L30 -> 5 | AO30: =N30 -> 3 | AP30: =P30 -> 3 | AQ30: =R30 -> 4 | AR30: =U30 -> 3 | AS30: =X30 -> 4 | AT30: =AA30 -> 4 | AU30: =AD30 -> 4 | AV30: =AG30 -> 0
H31: 13 | I31: Ella Beriman | J31: Leander Hello Stranger | K31: Cooroy | L31: 4 | M31: =IF(L31=0,,IF(L31>10,,11-(L31))) -> 7 | N31: 4 | O31: =IF(N31=0,,IF(N31>10,,11-(N31))) -> 7 | P31: 4 | Q31: =IF(P31=0,,IF(P31>10,,11-(P31))) -> 7 | R31: E | S31: =IF(R31=0,,IF(R31>10,,11-(R31))) -> 0 | T31: 45.88 | U31: 4 | V31: =IF(U31=0,,IF(U31>10,,11-(U31))) -> 7 | W31: E | Y31: =IF(X31=0,,IF(X31>10,,11-(X31))) -> 0 | Z31: 82.09 | AA31: 5 | AB31: =IF(AA31=0,,IF(AA31>10,,11-(AA31))) -> 6 | AC31: 36.78 | AD31: 5 | AE31: =IF(AD31=0,,IF(AD31>10,,11-(AD31))) -> 6 | AH31: =IF(AG31=0,,IF(AG31>10,,11-(AG31))) -> 0 | AJ31: =M31+O31+Q31+V31+Y31+AB31+AE31+S31+AH31 -> 40 | AL31: =M31+O31+Q31+V31+Y31+AB31+AE31+S31+AH31 -> 40 | AM31: =M31+O31+Q31+V31+Y31+AB31+AE31+S31+AH31 -> 40 | AN31: =L31 -> 4 | AO31: =N31 -> 4 | AP31: =P31 -> 4 | AQ31: =R31 -> E | AR31: =U31 -> 4 | AS31: =X31 -> 0 | AT31: =AA31 -> 5 | AU31: =AD31 -> 5 | AV31: =AG31 -> 0
M32: =IF(L32=0,,IF(L32>10,,11-(L32))) -> 0 | O32: =IF(N32=0,,IF(N32>10,,11-(N32))) -> 0 | Q32: =IF(P32=0,,IF(P32>10,,11-(P32))) -> 0 | S32: =IF(R32=0,,IF(R32>10,,11-(R32))) -> 0 | V32: =IF(U32=0,,IF(U32>10,,11-(U32))) -> 0 | Y32: =IF(X32=0,,IF(X32>10,,11-(X32))) -> 0 | AB32: =IF(AA32=0,,IF(AA32>10,,11-(AA32))) -> 0 | AE32: =IF(AD32=0,,IF(AD32>10,,11-(AD32))) -> 0 | AH32: =IF(AG32=0,,IF(AG32>10,,11-(AG32))) -> 0 | AJ32: =M32+O32+Q32+V32+Y32+AB32+AE32+S32+AH32 -> 0 | AL32: =M32+O32+Q32+V32+Y32+AB32+AE32+S32+AH32 -> 0 | AM32: =M32+O32+Q32+V32+Y32+AB32+AE32+S32+AH32 -> 0 | AN32: =L32 -> 0 | AO32: =N32 -> 0 | AP32: =P32 -> 0 | AQ32: =R32 -> 0 | AR32: =U32 -> 0 | AS32: =X32 -> 0 | AT32: =AA32 -> 0 | AU32: =AD32 -> 0 | AV32: =AG32 -> 0
A33: 14 | H33: Group 9yrs - 10yrs | AK33: FINAL | AN33: =L33 -> 0 | AO33: =N33 -> 0 | AP33: =P33 -> 0 | AQ33: =R33 -> 0 | AR33: =U33 -> 0 | AS33: =X33 -> 0 | AT33: =AA33 -> 0 | AU33: =AD33 -> 0 | AV33: =AG33 -> 0
A34: 21 | F34: 2 | G34: 9yrs - 10yrs | H34: 19 | I34: Thea Davis | J34: Charalook Ambassador | K34: Southside | M34: =IF(L34=0,,IF(L34>10,,11-(L34))) -> 0 | O34: =IF(N34=0,,IF(N34>10,,11-(N34))) -> 0 | Q34: =IF(P34=0,,IF(P34>10,,11-(P34))) -> 0 | S34: =IF(R34=0,,IF(R34>10,,11-(R34))) -> 0 | V34: =IF(U34=0,,IF(U34>10,,11-(U34))) -> 0 | Y34: =IF(X34=0,,IF(X34>10,,11-(X34))) -> 0 | AB34: =IF(AA34=0,,IF(AA34>10,,11-(AA34))) -> 0 | AE34: =IF(AD34=0,,IF(AD34>10,,11-(AD34))) -> 0 | AH34: =IF(AG34=0,,IF(AG34>10,,11-(AG34))) -> 0 | AJ34: =M34+O34+Q34+V34+Y34+AB34+AE34+S34+AH34 -> 0 | AL34: =M34+O34+Q34+V34+Y34+AB34+AE34+S34+AH34 -> 0 | AM34: =M34+O34+Q34+V34+Y34+AB34+AE34+S34+AH34 -> 0 | AN34: =L34 -> 0 | AO34: =N34 -> 0 | AP34: =P34 -> 0 | AQ34: =R34 -> 0 | AR34: =U34 -> 0 | AS34: =X34 -> 0 | AT34: =AA34 -> 0 | AU34: =AD34 -> 0 | AV34: =AG34 -> 0
H35: 20 | I35: Eva Dundon | J35: Oreo | K35: Gumdale | M35: =IF(L35=0,,IF(L35>10,,11-(L35))) -> 0 | O35: =IF(N35=0,,IF(N35>10,,11-(N35))) -> 0 | Q35: =IF(P35=0,,IF(P35>10,,11-(P35))) -> 0 | S35: =IF(R35=0,,IF(R35>10,,11-(R35))) -> 0 | V35: =IF(U35=0,,IF(U35>10,,11-(U35))) -> 0 | Y35: =IF(X35=0,,IF(X35>10,,11-(X35))) -> 0 | AB35: =IF(AA35=0,,IF(AA35>10,,11-(AA35))) -> 0 | AE35: =IF(AD35=0,,IF(AD35>10,,11-(AD35))) -> 0 | AH35: =IF(AG35=0,,IF(AG35>10,,11-(AG35))) -> 0 | AJ35: =M35+O35+Q35+V35+Y35+AB35+AE35+S35+AH35 -> 0 | AL35: =M35+O35+Q35+V35+Y35+AB35+AE35+S35+AH35 -> 0 | AM35: =M35+O35+Q35+V35+Y35+AB35+AE35+S35+AH35 -> 0 | AN35: =L35 -> 0 | AO35: =N35 -> 0 | AP35: =P35 -> 0 | AQ35: =R35 -> 0 | AR35: =U35 -> 0 | AS35: =X35 -> 0 | AT35: =AA35 -> 0 | AU35: =AD35 -> 0 | AV35: =AG35 -> 0
H36: 24 | I36: Ella Osborne | J36: Wyoming Stud Charlie Boy | K36: Rosewood | L36: 2 | M36: =IF(L36=0,,IF(L36>10,,11-(L36))) -> 9 | N36: 1 | O36: =IF(N36=0,,IF(N36>10,,11-(N36))) -> 10 | P36: 1 | Q36: =IF(P36=0,,IF(P36>10,,11-(P36))) -> 10 | R36: 2 | S36: =IF(R36=0,,IF(R36>10,,11-(R36))) -> 9 | T36: 17.12 | U36: 1 | V36: =IF(U36=0,,IF(U36>10,,11-(U36))) -> 10 | W36: 19.57 | X36: 2 | Y36: =IF(X36=0,,IF(X36>10,,11-(X36))) -> 9 | Z36: 23.1 | AA36: 2 | AB36: =IF(AA36=0,,IF(AA36>10,,11-(AA36))) -> 9 | AC36: 19.41 | AD36: 2 | AE36: =IF(AD36=0,,IF(AD36>10,,11-(AD36))) -> 9 | AH36: =IF(AG36=0,,IF(AG36>10,,11-(AG36))) -> 0 | AJ36: =M36+O36+Q36+V36+Y36+AB36+AE36+S36+AH36 -> 75 | AK36: 1 | AL36: =M36+O36+Q36+V36+Y36+AB36+AE36+S36+AH36 -> 75 | AM36: =M36+O36+Q36+V36+Y36+AB36+AE36+S36+AH36 -> 75 | AN36: =L36 -> 2 | AO36: =N36 -> 1 | AP36: =P36 -> 1 | AQ36: =R36 -> 2 | AR36: =U36 -> 1 | AS36: =X36 -> 2 | AT36: =AA36 -> 2 | AU36: =AD36 -> 2 | AV36: =AG36 -> 0
A37: 16 | F37: 2 | G37: 9yrs - 10yrs | H37: 25 | I37: Hats Smith | J37: Betty | K37: Dayboro | L37: 4 | M37: =IF(L37=0,,IF(L37>10,,11-(L37))) -> 7 | N37: 5 | O37: =IF(N37=0,,IF(N37>10,,11-(N37))) -> 6 | P37: 4 | Q37: =IF(P37=0,,IF(P37>10,,11-(P37))) -> 7 | R37: 1 | S37: =IF(R37=0,,IF(R37>10,,11-(R37))) -> 10 | T37: 17.62 | U37: 2 | V37: =IF(U37=0,,IF(U37>10,,11-(U37))) -> 9 | W37: 18.18 | X37: 1 | Y37: =IF(X37=0,,IF(X37>10,,11-(X37))) -> 10 | Z37: 20.41 | AA37: 1 | AB37: =IF(AA37=0,,IF(AA37>10,,11-(AA37))) -> 10 | AC37: 17.68 | AD37: 1 | AE37: =IF(AD37=0,,IF(AD37>10,,11-(AD37))) -> 10 | AH37: =IF(AG37=0,,IF(AG37>10,,11-(AG37))) -> 0 | AJ37: =M37+O37+Q37+V37+Y37+AB37+AE37+S37+AH37 -> 69 | AK37: 2 | AL37: =M37+O37+Q37+V37+Y37+AB37+AE37+S37+AH37 -> 69 | AM37: =M37+O37+Q37+V37+Y37+AB37+AE37+S37+AH37 -> 69 | AN37: =L37 -> 4 | AO37: =N37 -> 5 | AP37: =P37 -> 4 | AQ37: =R37 -> 1 | AR37: =U37 -> 2 | AS37: =X37 -> 1 | AT37: =AA37 -> 1 | AU37: =AD37 -> 1 | AV37: =AG37 -> 0
H38: 22 | I38: Frankie Brown | J38: Starr View Black Tie Affair | K38: Northern Suburbs | L38: 1 | M38: =IF(L38=0,,IF(L38>10,,11-(L38))) -> 10 | N38: 3 | O38: =IF(N38=0,,IF(N38>10,,11-(N38))) -> 8 | P38: 2 | Q38: =IF(P38=0,,IF(P38>10,,11-(P38))) -> 9 | R38: 3 | S38: =IF(R38=0,,IF(R38>10,,11-(R38))) -> 8 | T38: 25.28 | U38: 3 | V38: =IF(U38=0,,IF(U38>10,,11-(U38))) -> 8 | W38: 20.72 | X38: 3 | Y38: =IF(X38=0,,IF(X38>10,,11-(X38))) -> 8 | Z38: 29.19 | AA38: 5 | AB38: =IF(AA38=0,,IF(AA38>10,,11-(AA38))) -> 6 | AC38: 24.69 | AD38: 3 | AE38: =IF(AD38=0,,IF(AD38>10,,11-(AD38))) -> 8 | AH38: =IF(AG38=0,,IF(AG38>10,,11-(AG38))) -> 0 | AJ38: =M38+O38+Q38+V38+Y38+AB38+AE38+S38+AH38 -> 65 | AK38: 3 | AL38: =M38+O38+Q38+V38+Y38+AB38+AE38+S38+AH38 -> 65 | AM38: =M38+O38+Q38+V38+Y38+AB38+AE38+S38+AH38 -> 65 | AN38: =L38 -> 1 | AO38: =N38 -> 3 | AP38: =P38 -> 2 | AQ38: =R38 -> 3 | AR38: =U38 -> 3 | AS38: =X38 -> 3 | AT38: =AA38 -> 5 | AU38: =AD38 -> 3 | AV38: =AG38 -> 0
A39: 22 | F39: 2 | G39: 9yrs - 10yrs | H39: 26 | I39: Summer Harlen | J39: Dusky | K39: Lowood Fernvale | L39: 3 | M39: =IF(L39=0,,IF(L39>10,,11-(L39))) -> 8 | N39: 4 | O39: =IF(N39=0,,IF(N39>10,,11-(N39))) -> 7 | P39: 5 | Q39: =IF(P39=0,,IF(P39>10,,11-(P39))) -> 6 | R39: 4 | S39: =IF(R39=0,,IF(R39>10,,11-(R39))) -> 7 | T39: 32.06 | U39: 5 | V39: =IF(U39=0,,IF(U39>10,,11-(U39))) -> 6 | W39: E | Y39: =IF(X39=0,,IF(X39>10,,11-(X39))) -> 0 | Z39: 27.81 | AA39: 3 | AB39: =IF(AA39=0,,IF(AA39>10,,11-(AA39))) -> 8 | AC39: 24.69 | AD39: 3 | AE39: =IF(AD39=0,,IF(AD39>10,,11-(AD39))) -> 8 | AH39: =IF(AG39=0,,IF(AG39>10,,11-(AG39))) -> 0 | AJ39: =M39+O39+Q39+V39+Y39+AB39+AE39+S39+AH39 -> 50 | AL39: =M39+O39+Q39+V39+Y39+AB39+AE39+S39+AH39 -> 50 | AM39: =M39+O39+Q39+V39+Y39+AB39+AE39+S39+AH39 -> 50 | AN39: =L39 -> 3 | AO39: =N39 -> 4 | AP39: =P39 -> 5 | AQ39: =R39 -> 4 | AR39: =U39 -> 5 | AS39: =X39 -> 0 | AT39: =AA39 -> 3 | AU39: =AD39 -> 3 | AV39: =AG39 -> 0
H40: 21 | I40: Ava Schrodter | J40: Peaches and Cream | K40: Southside | L40: 5 | M40: =IF(L40=0,,IF(L40>10,,11-(L40))) -> 6 | N40: 2 | O40: =IF(N40=0,,IF(N40>10,,11-(N40))) -> 9 | P40: 6 | Q40: =IF(P40=0,,IF(P40>10,,11-(P40))) -> 5 | R40: E | S40: =IF(R40=0,,IF(R40>10,,11-(R40))) -> 0 | T40: 28.5 | U40: 4 | V40: =IF(U40=0,,IF(U40>10,,11-(U40))) -> 7 | W40: 29.62 | X40: 5 | Y40: =IF(X40=0,,IF(X40>10,,11-(X40))) -> 6 | Z40: 40.25 | AA40: 6 | AB40: =IF(AA40=0,,IF(AA40>10,,11-(AA40))) -> 5 | AC40: 28.12 | AD40: 5 | AE40: =IF(AD40=0,,IF(AD40>10,,11-(AD40))) -> 6 | AH40: =IF(AG40=0,,IF(AG40>10,,11-(AG40))) -> 0 | AJ40: =M40+O40+Q40+V40+Y40+AB40+AE40+S40+AH40 -> 44 | AL40: =M40+O40+Q40+V40+Y40+AB40+AE40+S40+AH40 -> 44 | AM40: =M40+O40+Q40+V40+Y40+AB40+AE40+S40+AH40 -> 44 | AN40: =L40 -> 5 | AO40: =N40 -> 2 | AP40: =P40 -> 6 | AQ40: =R40 -> E | AR40: =U40 -> 4 | AS40: =X40 -> 5 | AT40: =AA40 -> 6 | AU40: =AD40 -> 5 | AV40: =AG40 -> 0
H41: 23 | I41: Evie Binks | J41: Magic | K41: Southside | L41: 6 | M41: =IF(L41=0,,IF(L41>10,,11-(L41))) -> 5 | O41: =IF(N41=0,,IF(N41>10,,11-(N41))) -> 0 | P41: 3 | Q41: =IF(P41=0,,IF(P41>10,,11-(P41))) -> 8 | S41: =IF(R41=0,,IF(R41>10,,11-(R41))) -> 0 | V41: =IF(U41=0,,IF(U41>10,,11-(U41))) -> 0 | W41: 25.57 | X41: 4 | Y41: =IF(X41=0,,IF(X41>10,,11-(X41))) -> 7 | Z41: 29.1 | AA41: 4 | AB41: =IF(AA41=0,,IF(AA41>10,,11-(AA41))) -> 7 | AE41: =IF(AD41=0,,IF(AD41>10,,11-(AD41))) -> 0 | AH41: =IF(AG41=0,,IF(AG41>10,,11-(AG41))) -> 0 | AJ41: =M41+O41+Q41+V41+Y41+AB41+AE41+S41+AH41 -> 27 | AL41: =M41+O41+Q41+V41+Y41+AB41+AE41+S41+AH41 -> 27 | AM41: =M41+O41+Q41+V41+Y41+AB41+AE41+S41+AH41 -> 27 | AN41: =L41 -> 6 | AO41: =N41 -> 0 | AP41: =P41 -> 3 | AQ41: =R41 -> 0 | AR41: =U41 -> 0 | AS41: =X41 -> 4 | AT41: =AA41 -> 4 | AU41: =AD41 -> 0 | AV41: =AG41 -> 0
A42: 20 | F42: 2 | G42: 9yrs - 10yrs | M42: =IF(L42=0,,IF(L42>10,,11-(L42))) -> 0 | O42: =IF(N42=0,,IF(N42>10,,11-(N42))) -> 0 | Q42: =IF(P42=0,,IF(P42>10,,11-(P42))) -> 0 | S42: =IF(R42=0,,IF(R42>10,,11-(R42))) -> 0 | V42: =IF(U42=0,,IF(U42>10,,11-(U42))) -> 0 | Y42: =IF(X42=0,,IF(X42>10,,11-(X42))) -> 0 | AB42: =IF(AA42=0,,IF(AA42>10,,11-(AA42))) -> 0 | AE42: =IF(AD42=0,,IF(AD42>10,,11-(AD42))) -> 0 | AH42: =IF(AG42=0,,IF(AG42>10,,11-(AG42))) -> 0 | AJ42: =M42+O42+Q42+V42+Y42+AB42+AE42+S42+AH42 -> 0 | AL42: =M42+O42+Q42+V42+Y42+AB42+AE42+S42+AH42 -> 0 | AM42: =M42+O42+Q42+V42+Y42+AB42+AE42+S42+AH42 -> 0 | AN42: =L42 -> 0 | AO42: =N42 -> 0 | AP42: =P42 -> 0 | AQ42: =R42 -> 0 | AR42: =U42 -> 0 | AS42: =X42 -> 0 | AT42: =AA42 -> 0 | AU42: =AD42 -> 0 | AV42: =AG42 -> 0
A43: 18 | F43: 2 | G43: 9yrs - 10yrs | M43: =IF(L43=0,,IF(L43>10,,11-(L43))) -> 0 | O43: =IF(N43=0,,IF(N43>10,,11-(N43))) -> 0 | Q43: =IF(P43=0,,IF(P43>10,,11-(P43))) -> 0 | S43: =IF(R43=0,,IF(R43>10,,11-(R43))) -> 0 | V43: =IF(U43=0,,IF(U43>10,,11-(U43))) -> 0 | Y43: =IF(X43=0,,IF(X43>10,,11-(X43))) -> 0 | AB43: =IF(AA43=0,,IF(AA43>10,,11-(AA43))) -> 0 | AE43: =IF(AD43=0,,IF(AD43>10,,11-(AD43))) -> 0 | AH43: =IF(AG43=0,,IF(AG43>10,,11-(AG43))) -> 0 | AJ43: =M43+O43+Q43+V43+Y43+AB43+AE43+S43+AH43 -> 0 | AL43: =M43+O43+Q43+V43+Y43+AB43+AE43+S43+AH43 -> 0 | AM43: =M43+O43+Q43+V43+Y43+AB43+AE43+S43+AH43 -> 0 | AN43: =L43 -> 0 | AO43: =N43 -> 0 | AP43: =P43 -> 0 | AQ43: =R43 -> 0 | AR43: =U43 -> 0 | AS43: =X43 -> 0 | AT43: =AA43 -> 0 | AU43: =AD43 -> 0 | AV43: =AG43 -> 0
A44: 17 | F44: 2 | G44: 9yrs - 10yrs | M44: =IF(L44=0,,IF(L44>10,,11-(L44))) -> 0 | O44: =IF(N44=0,,IF(N44>10,,11-(N44))) -> 0 | Q44: =IF(P44=0,,IF(P44>10,,11-(P44))) -> 0 | S44: =IF(R44=0,,IF(R44>10,,11-(R44))) -> 0 | V44: =IF(U44=0,,IF(U44>10,,11-(U44))) -> 0 | Y44: =IF(X44=0,,IF(X44>10,,11-(X44))) -> 0 | AB44: =IF(AA44=0,,IF(AA44>10,,11-(AA44))) -> 0 | AE44: =IF(AD44=0,,IF(AD44>10,,11-(AD44))) -> 0 | AH44: =IF(AG44=0,,IF(AG44>10,,11-(AG44))) -> 0 | AJ44: =M44+O44+Q44+V44+Y44+AB44+AE44+S44+AH44 -> 0 | AL44: =M44+O44+Q44+V44+Y44+AB44+AE44+S44+AH44 -> 0 | AM44: =M44+O44+Q44+V44+Y44+AB44+AE44+S44+AH44 -> 0 | AN44: =L44 -> 0 | AO44: =N44 -> 0 | AP44: =P44 -> 0 | AQ44: =R44 -> 0 | AR44: =U44 -> 0 | AS44: =X44 -> 0 | AT44: =AA44 -> 0 | AU44: =AD44 -> 0 | AV44: =AG44 -> 0
A45: 15 | F45: 2 | G45: 9yrs - 10yrs | M45: =IF(L45=0,,IF(L45>10,,11-(L45))) -> 0 | O45: =IF(N45=0,,IF(N45>10,,11-(N45))) -> 0 | Q45: =IF(P45=0,,IF(P45>10,,11-(P45))) -> 0 | S45: =IF(R45=0,,IF(R45>10,,11-(R45))) -> 0 | V45: =IF(U45=0,,IF(U45>10,,11-(U45))) -> 0 | Y45: =IF(X45=0,,IF(X45>10,,11-(X45))) -> 0 | AB45: =IF(AA45=0,,IF(AA45>10,,11-(AA45))) -> 0 | AE45: =IF(AD45=0,,IF(AD45>10,,11-(AD45))) -> 0 | AH45: =IF(AG45=0,,IF(AG45>10,,11-(AG45))) -> 0 | AJ45: =M45+O45+Q45+V45+Y45+AB45+AE45+S45+AH45 -> 0 | AL45: =M45+O45+Q45+V45+Y45+AB45+AE45+S45+AH45 -> 0 | AM45: =M45+O45+Q45+V45+Y45+AB45+AE45+S45+AH45 -> 0 | AN45: =L45 -> 0 | AO45: =N45 -> 0 | AP45: =P45 -> 0 | AQ45: =R45 -> 0 | AR45: =U45 -> 0 | AS45: =X45 -> 0 | AT45: =AA45 -> 0 | AU45: =AD45 -> 0 | AV45: =AG45 -> 0
...

Sheet High Points
E1: Excludes SENIORS | H1: 31 | J1: 32 | K1: 33 | L1: 34 | M1: 35 | N1: 36 | O1: 37 | P1: 38 | Q1: 39
E2: Champion Zone 1 Rider - Highest Points | H2: [Excl Pairs score]
A4: New | B4: Cls | C4: Group | D4: Rider | E4: Rider Name | F4: Horse Name | G4: Club | H4: Total Rider Points | I4: Place | J4: COUNTBACK
D5: 24 | E5: Ella Osborne | F5: Wyoming Stud Charlie Boy | G5: Rosewood | H5: =VLOOKUP(D5,Invividual!$H:$AU,$H$1,FALSE) -> 75 | J5: =_xlfn.IFNA(VLOOKUP($D5,Invividual!$H:$AV,5,FALSE),"-") -> 2 | K5: =_xlfn.IFNA(VLOOKUP($D5,Invividual!$H:$AV,7,FALSE),"-") -> 1 | L5: =_xlfn.IFNA(VLOOKUP($D5,Invividual!$H:$AV,9,FALSE),"-") -> 1 | M5: =_xlfn.IFNA(VLOOKUP($D5,Invividual!$H:$AV,11,FALSE),"-") -> 2 | N5: =_xlfn.IFNA(VLOOKUP($D5,Invividual!$H:$AV,14,FALSE),"-") -> 1 | O5: =_xlfn.IFNA(VLOOKUP($D5,Invividual!$H:$AV,17,FALSE),"-") -> 2 | P5: =_xlfn.IFNA(VLOOKUP($D5,Invividual!$H:$AV,20,FALSE),"-") -> 2 | Q5: =_xlfn.IFNA(VLOOKUP($D5,Invividual!$H:$AV,23,FALSE),"-") -> 2
D6: 15 | E6: Bonnie Osborne | F6: Loriot Lyrical | G6: Rosewood | H6: =VLOOKUP(D6,Invividual!$H:$AU,$H$1,FALSE) -> 74 | J6: =_xlfn.IFNA(VLOOKUP($D6,Invividual!$H:$AV,5,FALSE),"-") -> 1 | K6: =_xlfn.IFNA(VLOOKUP($D6,Invividual!$H:$AV,7,FALSE),"-") -> 1 | L6: =_xlfn.IFNA(VLOOKUP($D6,Invividual!$H:$AV,9,FALSE),"-") -> 1 | M6: =_xlfn.IFNA(VLOOKUP($D6,Invividual!$H:$AV,11,FALSE),"-") -> 1 | N6: =_xlfn.IFNA(VLOOKUP($D6,Invividual!$H:$AV,14,FALSE),"-") -> 2 | O6: =_xlfn.IFNA(VLOOKUP($D6,Invividual!$H:$AV,17,FALSE),"-") -> 3 | P6: =_xlfn.IFNA(VLOOKUP($D6,Invividual!$H:$AV,20,FALSE),"-") -> 2 | Q6: =_xlfn.IFNA(VLOOKUP($D6,Invividual!$H:$AV,23,FALSE),"-") -> 3
D7: 46 | E7: Eva Newman | F7: Pacific View Manhattan | G7: Southside | H7: =VLOOKUP(D7,Invividual!$H:$AU,$H$1,FALSE) -> 74 | J7: =_xlfn.IFNA(VLOOKUP($D7,Invividual!$H:$AV,5,FALSE),"-") -> 1 | K7: =_xlfn.IFNA(VLOOKUP($D7,Invividual!$H:$AV,7,FALSE),"-") -> 2 | L7: =_xlfn.IFNA(VLOOKUP($D7,Invividual!$H:$AV,9,FALSE),"-") -> 1 | M7: =_xlfn.IFNA(VLOOKUP($D7,Invividual!$H:$AV,11,FALSE),"-") -> 3 | N7: =_xlfn.IFNA(VLOOKUP($D7,Invividual!$H:$AV,14,FALSE),"-") -> 2 | O7: =_xlfn.IFNA(VLOOKUP($D7,Invividual!$H:$AV,17,FALSE),"-") -> 1 | P7: =_xlfn.IFNA(VLOOKUP($D7,Invividual!$H:$AV,20,FALSE),"-") -> 3 | Q7: =_xlfn.IFNA(VLOOKUP($D7,Invividual!$H:$AV,23,FALSE),"-") -> 1
D8: 14 | E8: Scarlett Kerr | F8: Patience | G8: Burpengary | H8: =VLOOKUP(D8,Invividual!$H:$AU,$H$1,FALSE) -> 69 | J8: =_xlfn.IFNA(VLOOKUP($D8,Invividual!$H:$AV,5,FALSE),"-") -> 3 | K8: =_xlfn.IFNA(VLOOKUP($D8,Invividual!$H:$AV,7,FALSE),"-") -> 5 | L8: =_xlfn.IFNA(VLOOKUP($D8,Invividual!$H:$AV,9,FALSE),"-") -> 5 | M8: =_xlfn.IFNA(VLOOKUP($D8,Invividual!$H:$AV,11,FALSE),"-") -> 2 | N8: =_xlfn.IFNA(VLOOKUP($D8,Invividual!$H:$AV,14,FALSE),"-") -> 1 | O8: =_xlfn.IFNA(VLOOKUP($D8,Invividual!$H:$AV,17,FALSE),"-") -> 1 | P8: =_xlfn.IFNA(VLOOKUP($D8,Invividual!$H:$AV,20,FALSE),"-") -> 1 | Q8: =_xlfn.IFNA(VLOOKUP($D8,Invividual!$H:$AV,23,FALSE),"-") -> 1
D9: 25 | E9: Hats Smith | F9: Betty | G9: Dayboro | H9: =VLOOKUP(D9,Invividual!$H:$AU,$H$1,FALSE) -> 69 | J9: =_xlfn.IFNA(VLOOKUP($D9,Invividual!$H:$AV,5,FALSE),"-") -> 4 | K9: =_xlfn.IFNA(VLOOKUP($D9,Invividual!$H:$AV,7,FALSE),"-") -> 5 | L9: =_xlfn.IFNA(VLOOKUP($D9,Invividual!$H:$AV,9,FALSE),"-") -> 4 | M9: =_xlfn.IFNA(VLOOKUP($D9,Invividual!$H:$AV,11,FALSE),"-") -> 1 | N9: =_xlfn.IFNA(VLOOKUP($D9,Invividual!$H:$AV,14,FALSE),"-") -> 2 | O9: =_xlfn.IFNA(VLOOKUP($D9,Invividual!$H:$AV,17,FALSE),"-") -> 1 | P9: =_xlfn.IFNA(VLOOKUP($D9,Invividual!$H:$AV,20,FALSE),"-") -> 1 | Q9: =_xlfn.IFNA(VLOOKUP($D9,Invividual!$H:$AV,23,FALSE),"-") -> 1
D10: 30 | E10: Indi Watson | F10: Aztec | G10: Nerang | H10: =VLOOKUP(D10,Invividual!$H:$AU,$H$1,FALSE) -> 65 | J10: =_xlfn.IFNA(VLOOKUP($D10,Invividual!$H:$AV,5,FALSE),"-") -> 3 | K10: =_xlfn.IFNA(VLOOKUP($D10,Invividual!$H:$AV,7,FALSE),"-") -> 1 | L10: =_xlfn.IFNA(VLOOKUP($D10,Invividual!$H:$AV,9,FALSE),"-") -> 2 | M10: =_xlfn.IFNA(VLOOKUP($D10,Invividual!$H:$AV,11,FALSE),"-") -> 3 | N10: =_xlfn.IFNA(VLOOKUP($D10,Invividual!$H:$AV,14,FALSE),"-") -> 4 | O10: =_xlfn.IFNA(VLOOKUP($D10,Invividual!$H:$AV,17,FALSE),"-") -> 2 | P10: =_xlfn.IFNA(VLOOKUP($D10,Invividual!$H:$AV,20,FALSE),"-") -> 4 | Q10: =_xlfn.IFNA(VLOOKUP($D10,Invividual!$H:$AV,23,FALSE),"-") -> 4
D11: 22 | E11: Frankie Brown | F11: Starr View Black Tie Affair | G11: Northern Suburbs | H11: =VLOOKUP(D11,Invividual!$H:$AU,$H$1,FALSE) -> 65 | J11: =_xlfn.IFNA(VLOOKUP($D11,Invividual!$H:$AV,5,FALSE),"-") -> 1 | K11: =_xlfn.IFNA(VLOOKUP($D11,Invividual!$H:$AV,7,FALSE),"-") -> 3 | L11: =_xlfn.IFNA(VLOOKUP($D11,Invividual!$H:$AV,9,FALSE),"-") -> 2 | M11: =_xlfn.IFNA(VLOOKUP($D11,Invividual!$H:$AV,11,FALSE),"-") -> 3 | N11: =_xlfn.IFNA(VLOOKUP($D11,Invividual!$H:$AV,14,FALSE),"-") -> 3 | O11: =_xlfn.IFNA(VLOOKUP($D11,Invividual!$H:$AV,17,FALSE),"-") -> 3 | P11: =_xlfn.IFNA(VLOOKUP($D11,Invividual!$H:$AV,20,FALSE),"-") -> 5 | Q11: =_xlfn.IFNA(VLOOKUP($D11,Invividual!$H:$AV,23,FALSE),"-") -> 3
D12: 49 | E12: Frankie Binks | F12: Billy | G12: Southside | H12: =VLOOKUP(D12,Invividual!$H:$AU,$H$1,FALSE) -> 65 | J12: =_xlfn.IFNA(VLOOKUP($D12,Invividual!$H:$AV,5,FALSE),"-") -> 2 | K12: =_xlfn.IFNA(VLOOKUP($D12,Invividual!$H:$AV,7,FALSE),"-") -> 1 | L12: =_xlfn.IFNA(VLOOKUP($D12,Invividual!$H:$AV,9,FALSE),"-") -> 2 | M12: =_xlfn.IFNA(VLOOKUP($D12,Invividual!$H:$AV,11,FALSE),"-") -> 1 | N12: =_xlfn.IFNA(VLOOKUP($D12,Invividual!$H:$AV,14,FALSE),"-") -> 3 | O12: =_xlfn.IFNA(VLOOKUP($D12,Invividual!$H:$AV,17,FALSE),"-") -> 0 | P12: =_xlfn.IFNA(VLOOKUP($D12,Invividual!$H:$AV,20,FALSE),"-") -> 1 | Q12: =_xlfn.IFNA(VLOOKUP($D12,Invividual!$H:$AV,23,FALSE),"-") -> 2
D13: 53 | E13: Emily Eldred | F13: Grindstone Africa | G13: Runcorn | H13: =VLOOKUP(D13,Invividual!$H:$AU,$H$1,FALSE) -> 64 | J13: =_xlfn.IFNA(VLOOKUP($D13,Invividual!$H:$AV,5,FALSE),"-") -> 6 | K13: =_xlfn.IFNA(VLOOKUP($D13,Invividual!$H:$AV,7,FALSE),"-") -> 2 | L13: =_xlfn.IFNA(VLOOKUP($D13,Invividual!$H:$AV,9,FALSE),"-") -> 3 | M13: =_xlfn.IFNA(VLOOKUP($D13,Invividual!$H:$AV,11,FALSE),"-") -> 3 | N13: =_xlfn.IFNA(VLOOKUP($D13,Invividual!$H:$AV,14,FALSE),"-") -> 2 | O13: =_xlfn.IFNA(VLOOKUP($D13,Invividual!$H:$AV,17,FALSE),"-") -> 3 | P13: =_xlfn.IFNA(VLOOKUP($D13,Invividual!$H:$AV,20,FALSE),"-") -> 3 | Q13: =_xlfn.IFNA(VLOOKUP($D13,Invividual!$H:$AV,23,FALSE),"-") -> 2
D14: 41 | E14: Zoe Kirley | F14: Everyday Dusty | G14: Tamborine | H14: =VLOOKUP(D14,Invividual!$H:$AU,$H$1,FALSE) -> 64 | J14: =_xlfn.IFNA(VLOOKUP($D14,Invividual!$H:$AV,5,FALSE),"-") -> 2 | K14: =_xlfn.IFNA(VLOOKUP($D14,Invividual!$H:$AV,7,FALSE),"-") -> 9 | L14: =_xlfn.IFNA(VLOOKUP($D14,Invividual!$H:$AV,9,FALSE),"-") -> 4 | M14: =_xlfn.IFNA(VLOOKUP($D14,Invividual!$H:$AV,11,FALSE),"-") -> 4 | N14: =_xlfn.IFNA(VLOOKUP($D14,Invividual!$H:$AV,14,FALSE),"-") -> 2 | O14: =_xlfn.IFNA(VLOOKUP($D14,Invividual!$H:$AV,17,FALSE),"-") -> 1 | P14: =_xlfn.IFNA(VLOOKUP($D14,Invividual!$H:$AV,20,FALSE),"-") -> 1 | Q14: =_xlfn.IFNA(VLOOKUP($D14,Invividual!$H:$AV,23,FALSE),"-") -> 1
D15: 28 | E15: Penelope Moor | F15: Felix | G15: Southside | H15: =VLOOKUP(D15,Invividual!$H:$AU,$H$1,FALSE) -> 63 | J15: =_xlfn.IFNA(VLOOKUP($D15,Invividual!$H:$AV,5,FALSE),"-") -> 2 | K15: =_xlfn.IFNA(VLOOKUP($D15,Invividual!$H:$AV,7,FALSE),"-") -> 4 | L15: =_xlfn.IFNA(VLOOKUP($D15,Invividual!$H:$AV,9,FALSE),"-") -> 1 | M15: =_xlfn.IFNA(VLOOKUP($D15,Invividual!$H:$AV,11,FALSE),"-") -> 2 | N15: =_xlfn.IFNA(VLOOKUP($D15,Invividual!$H:$AV,14,FALSE),"-") -> 3 | O15: =_xlfn.IFNA(VLOOKUP($D15,Invividual!$H:$AV,17,FALSE),"-") -> 0 | P15: =_xlfn.IFNA(VLOOKUP($D15,Invividual!$H:$AV,20,FALSE),"-") -> 1 | Q15: =_xlfn.IFNA(VLOOKUP($D15,Invividual!$H:$AV,23,FALSE),"-") -> 1
D16: 47 | E16: Remi O'day | F16: Effortless Romance | G16: Gumdale | H16: =VLOOKUP(D16,Invividual!$H:$AU,$H$1,FALSE) -> 62 | J16: =_xlfn.IFNA(VLOOKUP($D16,Invividual!$H:$AV,5,FALSE),"-") -> 3 | K16: =_xlfn.IFNA(VLOOKUP($D16,Invividual!$H:$AV,7,FALSE),"-") -> 3 | L16: =_xlfn.IFNA(VLOOKUP($D16,Invividual!$H:$AV,9,FALSE),"-") -> 3 | M16: =_xlfn.IFNA(VLOOKUP($D16,Invividual!$H:$AV,11,FALSE),"-") -> 2 | N16: =_xlfn.IFNA(VLOOKUP($D16,Invividual!$H:$AV,14,FALSE),"-") -> 4 | O16: =_xlfn.IFNA(VLOOKUP($D16,Invividual!$H:$AV,17,FALSE),"-") -> 2 | P16: =_xlfn.IFNA(VLOOKUP($D16,Invividual!$H:$AV,20,FALSE),"-") -> 4 | Q16: =_xlfn.IFNA(VLOOKUP($D16,Invividual!$H:$AV,23,FALSE),"-") -> 5
... D62: 64 | E62: Ruby Meredith | F62: Beans | G62: Gumdale | H62: =VLOOKUP(D62,Invividual!$H:$AU,$H$1,FALSE) -> 0 | J62: =_xlfn.IFNA(VLOOKUP($D62,Invividual!$H:$AV,5,FALSE),"-") -> 0 | K62: =_xlfn.IFNA(VLOOKUP($D62,Invividual!$H:$AV,7,FALSE),"-") -> 0 | L62: =_xlfn.IFNA(VLOOKUP($D62,Invividual!$H:$AV,9,FALSE),"-") -> 0 | M62: =_xlfn.IFNA(VLOOKUP($D62,Invividual!$H:$AV,11,FALSE),"-") -> 0 | N62: =_xlfn.IFNA(VLOOKUP($D62,Invividual!$H:$AV,14,FALSE),"-") -> 0 | O62: =_xlfn.IFNA(VLOOKUP($D62,Invividual!$H:$AV,17,FALSE),"-") -> 0 | P62: =_xlfn.IFNA(VLOOKUP($D62,Invividual!$H:$AV,20,FALSE),"-") -> 0 | Q62: =_xlfn.IFNA(VLOOKUP($D62,Invividual!$H:$AV,23,FALSE),"-") -> 0
D63: 65 | E63: Jordan Cain | F63: Bobby Shiraz | G63: Karana Downs | H63: 0 | J63: 0 | K63: 0 | L63: 0 | M63: 0 | N63: 0 | O63: 0 | P63: 0 | Q63: 0
D64: 4 | E64: Bonnie Brown | F64: Bentley | G64: Northern Suburbs | H64: =VLOOKUP(D64,Invividual!$H:$AU,$H$1,FALSE) -> 0 | J64: =_xlfn.IFNA(VLOOKUP($D64,Invividual!$H:$AV,5,FALSE),"-") -> 0 | K64: =_xlfn.IFNA(VLOOKUP($D64,Invividual!$H:$AV,7,FALSE),"-") -> 0 | L64: =_xlfn.IFNA(VLOOKUP($D64,Invividual!$H:$AV,9,FALSE),"-") -> 0 | M64: =_xlfn.IFNA(VLOOKUP($D64,Invividual!$H:$AV,11,FALSE),"-") -> 0 | N64: =_xlfn.IFNA(VLOOKUP($D64,Invividual!$H:$AV,14,FALSE),"-") -> 0 | O64: =_xlfn.IFNA(VLOOKUP($D64,Invividual!$H:$AV,17,FALSE),"-") -> 0 | P64: =_xlfn.IFNA(VLOOKUP($D64,Invividual!$H:$AV,20,FALSE),"-") -> 0 | Q64: =_xlfn.IFNA(VLOOKUP($D64,Invividual!$H:$AV,23,FALSE),"-") -> 0
D65: 7 | E65: Sienna Horn | F65: Bear | G65: Runcorn | H65: =VLOOKUP(D65,Invividual!$H:$AU,$H$1,FALSE) -> 0 | J65: =_xlfn.IFNA(VLOOKUP($D65,Invividual!$H:$AV,5,FALSE),"-") -> 0 | K65: =_xlfn.IFNA(VLOOKUP($D65,Invividual!$H:$AV,7,FALSE),"-") -> 0 | L65: =_xlfn.IFNA(VLOOKUP($D65,Invividual!$H:$AV,9,FALSE),"-") -> 0 | M65: =_xlfn.IFNA(VLOOKUP($D65,Invividual!$H:$AV,11,FALSE),"-") -> 0 | N65: =_xlfn.IFNA(VLOOKUP($D65,Invividual!$H:$AV,14,FALSE),"-") -> 0 | O65: =_xlfn.IFNA(VLOOKUP($D65,Invividual!$H:$AV,17,FALSE),"-") -> 0 | P65: =_xlfn.IFNA(VLOOKUP($D65,Invividual!$H:$AV,20,FALSE),"-") -> 0 | Q65: =_xlfn.IFNA(VLOOKUP($D65,Invividual!$H:$AV,23,FALSE),"-") -> 0
D66: 1 | E66: Valentina Milzewski | F66: Flirtatious | G66: Runcorn | H66: =VLOOKUP(D66,Invividual!$H:$AU,$H$1,FALSE) -> 0 | J66: =_xlfn.IFNA(VLOOKUP($D66,Invividual!$H:$AV,5,FALSE),"-") -> 0 | K66: =_xlfn.IFNA(VLOOKUP($D66,Invividual!$H:$AV,7,FALSE),"-") -> 0 | L66: =_xlfn.IFNA(VLOOKUP($D66,Invividual!$H:$AV,9,FALSE),"-") -> 0 | M66: =_xlfn.IFNA(VLOOKUP($D66,Invividual!$H:$AV,11,FALSE),"-") -> 0 | N66: =_xlfn.IFNA(VLOOKUP($D66,Invividual!$H:$AV,14,FALSE),"-") -> 0 | O66: =_xlfn.IFNA(VLOOKUP($D66,Invividual!$H:$AV,17,FALSE),"-") -> 0 | P66: =_xlfn.IFNA(VLOOKUP($D66,Invividual!$H:$AV,20,FALSE),"-") -> 0 | Q66: =_xlfn.IFNA(VLOOKUP($D66,Invividual!$H:$AV,23,FALSE),"-") -> 0
D67: 2 | E67: Ella Caffery | F67: Charlie | G67: Runcorn | H67: =VLOOKUP(D67,Invividual!$H:$AU,$H$1,FALSE) -> 0 | J67: =_xlfn.IFNA(VLOOKUP($D67,Invividual!$H:$AV,5,FALSE),"-") -> 0 | K67: =_xlfn.IFNA(VLOOKUP($D67,Invividual!$H:$AV,7,FALSE),"-") -> 0 | L67: =_xlfn.IFNA(VLOOKUP($D67,Invividual!$H:$AV,9,FALSE),"-") -> 0 | M67: =_xlfn.IFNA(VLOOKUP($D67,Invividual!$H:$AV,11,FALSE),"-") -> 0 | N67: =_xlfn.IFNA(VLOOKUP($D67,Invividual!$H:$AV,14,FALSE),"-") -> 0 | O67: =_xlfn.IFNA(VLOOKUP($D67,Invividual!$H:$AV,17,FALSE),"-") -> 0 | P67: =_xlfn.IFNA(VLOOKUP($D67,Invividual!$H:$AV,20,FALSE),"-") -> 0 | Q67: =_xlfn.IFNA(VLOOKUP($D67,Invividual!$H:$AV,23,FALSE),"-") -> 0
D68: 3 | E68: Ruby Medcalf | F68: Snickers | G68: Southside | H68: =VLOOKUP(D68,Invividual!$H:$AU,$H$1,FALSE) -> 0 | J68: =_xlfn.IFNA(VLOOKUP($D68,Invividual!$H:$AV,5,FALSE),"-") -> 0 | K68: =_xlfn.IFNA(VLOOKUP($D68,Invividual!$H:$AV,7,FALSE),"-") -> 0 | L68: =_xlfn.IFNA(VLOOKUP($D68,Invividual!$H:$AV,9,FALSE),"-") -> 0 | M68: =_xlfn.IFNA(VLOOKUP($D68,Invividual!$H:$AV,11,FALSE),"-") -> 0 | N68: =_xlfn.IFNA(VLOOKUP($D68,Invividual!$H:$AV,14,FALSE),"-") -> 0 | O68: =_xlfn.IFNA(VLOOKUP($D68,Invividual!$H:$AV,17,FALSE),"-") -> 0 | P68: =_xlfn.IFNA(VLOOKUP($D68,Invividual!$H:$AV,20,FALSE),"-") -> 0 | Q68: =_xlfn.IFNA(VLOOKUP($D68,Invividual!$H:$AV,23,FALSE),"-") -> 0
D69: 6 | E69: Milton Kennedy | F69: Missy | G69: Southside | H69: =VLOOKUP(D69,Invividual!$H:$AU,$H$1,FALSE) -> 0 | J69: =_xlfn.IFNA(VLOOKUP($D69,Invividual!$H:$AV,5,FALSE),"-") -> 0 | K69: =_xlfn.IFNA(VLOOKUP($D69,Invividual!$H:$AV,7,FALSE),"-") -> 0 | L69: =_xlfn.IFNA(VLOOKUP($D69,Invividual!$H:$AV,9,FALSE),"-") -> 0 | M69: =_xlfn.IFNA(VLOOKUP($D69,Invividual!$H:$AV,11,FALSE),"-") -> 0 | N69: =_xlfn.IFNA(VLOOKUP($D69,Invividual!$H:$AV,14,FALSE),"-") -> 0 | O69: =_xlfn.IFNA(VLOOKUP($D69,Invividual!$H:$AV,17,FALSE),"-") -> 0 | P69: =_xlfn.IFNA(VLOOKUP($D69,Invividual!$H:$AV,20,FALSE),"-") -> 0 | Q69: =_xlfn.IFNA(VLOOKUP($D69,Invividual!$H:$AV,23,FALSE),"-") -> 0
D70: 8 | E70: Aubree Makemson | F70: Stormy | G70: Southside | H70: =VLOOKUP(D70,Invividual!$H:$AU,$H$1,FALSE) -> 0 | J70: =_xlfn.IFNA(VLOOKUP($D70,Invividual!$H:$AV,5,FALSE),"-") -> 0 | K70: =_xlfn.IFNA(VLOOKUP($D70,Invividual!$H:$AV,7,FALSE),"-") -> 0 | L70: =_xlfn.IFNA(VLOOKUP($D70,Invividual!$H:$AV,9,FALSE),"-") -> 0 | M70: =_xlfn.IFNA(VLOOKUP($D70,Invividual!$H:$AV,11,FALSE),"-") -> 0 | N70: =_xlfn.IFNA(VLOOKUP($D70,Invividual!$H:$AV,14,FALSE),"-") -> 0 | O70: =_xlfn.IFNA(VLOOKUP($D70,Invividual!$H:$AV,17,FALSE),"-") -> 0 | P70: =_xlfn.IFNA(VLOOKUP($D70,Invividual!$H:$AV,20,FALSE),"-") -> 0 | Q70: =_xlfn.IFNA(VLOOKUP($D70,Invividual!$H:$AV,23,FALSE),"-") -> 0
D71: 9 | E71: Madeline Makemson | F71: Belle | G71: Southside | H71: =VLOOKUP(D71,Invividual!$H:$AU,$H$1,FALSE) -> 0 | J71: =_xlfn.IFNA(VLOOKUP($D71,Invividual!$H:$AV,5,FALSE),"-") -> 0 | K71: =_xlfn.IFNA(VLOOKUP($D71,Invividual!$H:$AV,7,FALSE),"-") -> 0 | L71: =_xlfn.IFNA(VLOOKUP($D71,Invividual!$H:$AV,9,FALSE),"-") -> 0 | M71: =_xlfn.IFNA(VLOOKUP($D71,Invividual!$H:$AV,11,FALSE),"-") -> 0 | N71: =_xlfn.IFNA(VLOOKUP($D71,Invividual!$H:$AV,14,FALSE),"-") -> 0 | O71: =_xlfn.IFNA(VLOOKUP($D71,Invividual!$H:$AV,17,FALSE),"-") -> 0 | P71: =_xlfn.IFNA(VLOOKUP($D71,Invividual!$H:$AV,20,FALSE),"-") -> 0 | Q71: =_xlfn.IFNA(VLOOKUP($D71,Invividual!$H:$AV,23,FALSE),"-") -> 0
D72: 19 | E72: Thea Davis | F72: Charalook Ambassador | G72: Southside | H72: =VLOOKUP(D72,Invividual!$H:$AU,$H$1,FALSE) -> 0 | J72: =_xlfn.IFNA(VLOOKUP($D72,Invividual!$H:$AV,5,FALSE),"-") -> 0 | K72: =_xlfn.IFNA(VLOOKUP($D72,Invividual!$H:$AV,7,FALSE),"-") -> 0 | L72: =_xlfn.IFNA(VLOOKUP($D72,Invividual!$H:$AV,9,FALSE),"-") -> 0 | M72: =_xlfn.IFNA(VLOOKUP($D72,Invividual!$H:$AV,11,FALSE),"-") -> 0 | N72: =_xlfn.IFNA(VLOOKUP($D72,Invividual!$H:$AV,14,FALSE),"-") -> 0 | O72: =_xlfn.IFNA(VLOOKUP($D72,Invividual!$H:$AV,17,FALSE),"-") -> 0 | P72: =_xlfn.IFNA(VLOOKUP($D72,Invividual!$H:$AV,20,FALSE),"-") -> 0 | Q72: =_xlfn.IFNA(VLOOKUP($D72,Invividual!$H:$AV,23,FALSE),"-") -> 0
D73: 54 | E73: Louisa Baddiley | F73: Monty | G73: Southside | H73: =VLOOKUP(D73,Invividual!$H:$AU,$H$1,FALSE) -> 0 | J73: =_xlfn.IFNA(VLOOKUP($D73,Invividual!$H:$AV,5,FALSE),"-") -> 0 | K73: =_xlfn.IFNA(VLOOKUP($D73,Invividual!$H:$AV,7,FALSE),"-") -> 0 | L73: =_xlfn.IFNA(VLOOKUP($D73,Invividual!$H:$AV,9,FALSE),"-") -> 0 | M73: =_xlfn.IFNA(VLOOKUP($D73,Invividual!$H:$AV,11,FALSE),"-") -> 0 | N73: =_xlfn.IFNA(VLOOKUP($D73,Invividual!$H:$AV,14,FALSE),"-") -> 0 | O73: =_xlfn.IFNA(VLOOKUP($D73,Invividual!$H:$AV,17,FALSE),"-") -> 0 | P73: =_xlfn.IFNA(VLOOKUP($D73,Invividual!$H:$AV,20,FALSE),"-") -> 0 | Q73: =_xlfn.IFNA(VLOOKUP($D73,Invividual!$H:$AV,23,FALSE),"-") -> 0
D74: 5 | E74: Mila Ionescu | F74: Pennylane Marigold | G74: Wynnum | H74: =VLOOKUP(D74,Invividual!$H:$AU,$H$1,FALSE) -> 0 | J74: =_xlfn.IFNA(VLOOKUP($D74,Invividual!$H:$AV,5,FALSE),"-") -> 0 | K74: =_xlfn.IFNA(VLOOKUP($D74,Invividual!$H:$AV,7,FALSE),"-") -> 0 | L74: =_xlfn.IFNA(VLOOKUP($D74,Invividual!$H:$AV,9,FALSE),"-") -> 0 | M74: =_xlfn.IFNA(VLOOKUP($D74,Invividual!$H:$AV,11,FALSE),"-") -> 0 | N74: =_xlfn.IFNA(VLOOKUP($D74,Invividual!$H:$AV,14,FALSE),"-") -> 0 | O74: =_xlfn.IFNA(VLOOKUP($D74,Invividual!$H:$AV,17,FALSE),"-") -> 0 | P74: =_xlfn.IFNA(VLOOKUP($D74,Invividual!$H:$AV,20,FALSE),"-") -> 0 | Q74: =_xlfn.IFNA(VLOOKUP($D74,Invividual!$H:$AV,23,FALSE),"-") -> 0
H75: 0 | J75: =_xlfn.IFNA(VLOOKUP($D75,Invividual!$H:$AV,5,FALSE),"-") -> - | K75: =_xlfn.IFNA(VLOOKUP($D75,Invividual!$H:$AV,7,FALSE),"-") -> - | L75: =_xlfn.IFNA(VLOOKUP($D75,Invividual!$H:$AV,9,FALSE),"-") -> - | M75: =_xlfn.IFNA(VLOOKUP($D75,Invividual!$H:$AV,11,FALSE),"-") -> - | N75: =_xlfn.IFNA(VLOOKUP($D75,Invividual!$H:$AV,14,FALSE),"-") -> - | O75: =_xlfn.IFNA(VLOOKUP($D75,Invividual!$H:$AV,17,FALSE),"-") -> - | P75: =_xlfn.IFNA(VLOOKUP($D75,Invividual!$H:$AV,20,FALSE),"-") -> - | Q75: =_xlfn.IFNA(VLOOKUP($D75,Invividual!$H:$AV,23,FALSE),"-") -> -

Sheet Club Scores
B1: 3) | D1: JF McGill Trophy - Club with highest total points / Rocklea Trophy for runner up
B2: 4) | D2: JF McGill Trophy - Club with highest average (10 or more riders)
B3: 5) | D3: Stewarts Trophy - Club with highest average (less than 10 riders)
B4: 6) | D4: Newcomer Event - Seniors not eligible - First place trophy for highest points
D5: Minimum 8 riders for "March Past" points to be allocated
D6: McGill - Zone 1 Club - 10 or more riders - Highest average per rider
D7: McGill - Zone 1 Club - Less Than 10 riders - Highest average per rider
B9: McGill - Zone 1 Club - 10 or more riders - Highest average per rider
B10: Club | D10: Total Rider Points | H10: Total Club Points | I10: Number Riders | J10: Average | K10: Place
B12: Southside | D12: =IF(B12="",0,SUMIF(Invividual!$K$17:$AL$123,B12,Invividual!$AL$17:$AL$123)) -> 550 | H12: =G12+D12+I12 -> 570 | I12: =COUNTIF(Invividual!$K$17:$K$123,B12) -> 20 | J12: =IF(D12=0,0,IFERROR(H12/I12,0)) -> 28.5
D13: =IF(B13="",0,SUMIF(Invividual!$K$17:$AL$123,B13,Invividual!$AL$17:$AL$123)) -> 0 | H13: =G13+D13+I13 -> 0 | I13: =COUNTIF(Invividual!$K$17:$K$123,B13) -> 0 | J13: =IF(D13=0,0,IFERROR(H13/I13,0)) -> 0
D14: =IF(B14="",0,SUMIF(Invividual!$K$17:$AL$123,B14,Invividual!$AL$17:$AL$123)) -> 0 | H14: =G14+D14+I14 -> 0 | I14: =COUNTIF(Invividual!$K$17:$K$123,B14) -> 0 | J14: =IF(D14=0,0,IFERROR(H14/I14,0)) -> 0
D15: =SUM(D11:D14) -> 550 | I15: =SUM(I11:I14) -> 20
B17: JF McGill - Zone 1 Club - Highest Points
B18: Club | D18: Total Rider Points | H18: Total Club Points | I18: Number Riders | J18: Average | K18: Place
B19: Southside | D19: =IF(B19="",0,SUMIF(Invividual!$K$17:$AL$123,B19,Invividual!$AL$17:$AL$123)) -> 550 | H19: 0 | I19: =COUNTIF(Invividual!$K$17:$K$123,B19) -> 20 | J19: =IF(D19=0,0,IFERROR(H19/I19,0)) -> 0 | K19: 1
B20: Runcorn | D20: =IF(B20="",0,SUMIF(Invividual!$K$17:$AL$123,B20,Invividual!$AL$17:$AL$123)) -> 108 | F20: =SUMIF(Pairs!G:I,'Club Scores'!B19) -> 0 | H20: 0 | I20: =COUNTIF(Invividual!$K$17:$K$123,B20) -> 3 | J20: =IF(D20=0,0,IFERROR(H20/I20,0)) -> 0 | K20: 2
B21: Karana Downs | D21: =IF(B21="",0,SUMIF(Invividual!$K$17:$AL$123,B21,Invividual!$AL$17:$AL$123)) -> 50 | H21: 0 | I21: =COUNTIF(Invividual!$K$17:$K$123,B21) -> 2 | J21: =IF(D21=0,0,IFERROR(H21/I21,0)) -> 0 | K21: 4
B22: Wynnum | D22: =IF(B22="",0,SUMIF(Invividual!$K$17:$AL$123,B22,Invividual!$AL$17:$AL$123)) -> 59 | H22: 0 | I22: =COUNTIF(Invividual!$K$17:$K$123,B22) -> 1 | J22: =IF(D22=0,0,IFERROR(H22/I22,0)) -> 0 | K22: 6
B23: Northern Suburbs | D23: =IF(B23="",0,SUMIF(Invividual!$K$17:$AL$123,B23,Invividual!$AL$17:$AL$123)) -> 187 | H23: 0 | I23: =COUNTIF(Invividual!$K$17:$K$123,B23) -> 5 | J23: =IF(D23=0,0,IFERROR(H23/I23,0)) -> 0 | K23: 7
B24: Gumdale | D24: =IF(B24="",0,SUMIF(Invividual!$K$17:$AL$123,B24,Invividual!$AL$17:$AL$123)) -> 281 | H24: 0 | I24: =COUNTIF(Invividual!$K$17:$K$123,B24) -> 9 | J24: =IF(D24=0,0,IFERROR(H24/I24,0)) -> 0 | K24: 10
D25: =IF(B25="",0,SUMIF(Invividual!$K$17:$AL$123,B25,Invividual!$AL$17:$AL$123)) -> 0 | H25: 0 | I25: =COUNTIF(Invividual!$K$17:$K$123,B25) -> 0 | J25: =IF(D25=0,0,IFERROR(H25/I25,0)) -> 0
D26: =SUM(D19:D25) -> 1235 | I26: =SUM(I19:I25) -> 40
B28: McGill - Zone 1 Club With Highest Total Points
B29: Club | D29: Total Rider Points | F29: Pairs Riding | H29: Total Club Points | I29: Number Riders | K29: Place
B30: Southside | D30: =IF(B30="",0,SUMIF(Invividual!$K$17:$AL$123,B30,Invividual!$AL$17:$AL$123)) -> 550 | G30: =IF(F30=0,,IF(F30>10,,11-(F30))) -> 0 | H30: =G30+D30+I30 -> 570 | I30: =COUNTIF(Invividual!$K$17:$K$123,B30) -> 20
B31: Runcorn | D31: =IF(B31="",0,SUMIF(Invividual!$K$17:$AL$123,B31,Invividual!$AL$17:$AL$123)) -> 108 | G31: =IF(F31=0,,IF(F31>10,,11-(F31))) -> 0 | H31: =G31+D31+I31 -> 111 | I31: =COUNTIF(Invividual!$K$17:$K$123,B31) -> 3
B32: Karana Downs | D32: =IF(B32="",0,SUMIF(Invividual!$K$17:$AL$123,B32,Invividual!$AL$17:$AL$123)) -> 50 | G32: =IF(F32=0,,IF(F32>10,,11-(F32))) -> 0 | H32: =G32+D32+I32 -> 52 | I32: =COUNTIF(Invividual!$K$17:$K$123,B32) -> 2
B33: Wynnum | D33: =IF(B33="",0,SUMIF(Invividual!$K$17:$AL$123,B33,Invividual!$AL$17:$AL$123)) -> 59 | G33: =IF(F33=0,,IF(F33>10,,11-(F33))) -> 0 | H33: =G33+D33+I33 -> 60 | I33: =COUNTIF(Invividual!$K$17:$K$123,B33) -> 1
B34: Northern Suburbs | D34: =IF(B34="",0,SUMIF(Invividual!$K$17:$AL$123,B34,Invividual!$AL$17:$AL$123)) -> 187 | G34: =IF(F34=0,,IF(F34>10,,11-(F34))) -> 0 | H34: =G34+D34+I34 -> 192 | I34: =COUNTIF(Invividual!$K$17:$K$123,B34) -> 5
B35: Gumdale | D35: =IF(B35="",0,SUMIF(Invividual!$K$17:$AL$123,B35,Invividual!$AL$17:$AL$123)) -> 281 | G35: =IF(F35=0,,IF(F35>10,,11-(F35))) -> 0 | H35: =G35+D35+I35 -> 290 | I35: =COUNTIF(Invividual!$K$17:$K$123,B35) -> 9
D36: =IF(B36="",0,SUMIF(Invividual!$K$17:$AL$123,B36,Invividual!$AL$17:$AL$123)) -> 0 | G36: =IF(F36=0,,IF(F36>10,,11-(F36))) -> 0 | H36: =G36+D36+I36 -> 0 | I36: =COUNTIF(Invividual!$K$17:$K$123,B36) -> 0
D37: =IF(B37="",0,SUMIF(Invividual!$K$17:$AL$123,B37,Invividual!$AL$17:$AL$123)) -> 0 | G37: =IF(F37=0,,IF(F37>10,,11-(F37))) -> 0 | H37: =G37+D37+I37 -> 0 | I37: =COUNTIF(Invividual!$K$17:$K$123,B37) -> 0
D38: =SUM(D30:D37) -> 1235 | I38: =SUM(I30:I37) -> 40
B39: Points Check
B40: Non Zone Clubs
B41: Dayboro | D41: =IF(B41="",0,SUMIF(Invividual!$K$17:$AL$123,B41,Invividual!$AL$17:$AL$123)) -> 182 | H41: =G41+D41 -> 182 | I41: =COUNTIF(Invividual!$K$17:$K$123,B41) -> 3
B42: Greenbank | D42: =IF(B42="",0,SUMIF(Invividual!$K$17:$AL$123,B42,Invividual!$AL$17:$AL$123)) -> 0 | H42: =G42+D42 -> 0 | I42: =COUNTIF(Invividual!$K$17:$K$123,B42) -> 0
B43: Burpengary | D43: =IF(B43="",0,SUMIF(Invividual!$K$17:$AL$123,B43,Invividual!$AL$17:$AL$123)) -> 124 | H43: =G43+D43 -> 124 | I43: =COUNTIF(Invividual!$K$17:$K$123,B43) -> 2
B44: Cambooya | D44: =IF(B44="",0,SUMIF(Invividual!$K$17:$AL$123,B44,Invividual!$AL$17:$AL$123)) -> 48 | H44: =G44+D44 -> 48 | I44: =COUNTIF(Invividual!$K$17:$K$123,B44) -> 1
...

Sheet Pairs
E1: 2 | F1: 3 | G1: 4 | H1: 5 | I1: 6
B2: Cls | C2: Age Group | D2: Rider | E2: Rider Name | F2: Horse | G2: Club | H2: Rider Pairs
H3: Place | I3: Points
D4: GROUP 1 = UNDER 10 YEARS and Under
D5: 0 | H5: 0 | I5: 0
D17: GROUP 2 = 11 to 14 Years
I18: =IF(H18=0,,IF(H18>10,,11-(H18))) -> 0
I19: =IF(H19=0,,IF(H19>10,,11-(H19))) -> 0
I20: =IF(H20=0,,IF(H20>10,,11-(H20))) -> 0
I21: =IF(H21=0,,IF(H21>10,,11-(H21))) -> 0
I22: =IF(H22=0,,IF(H22>10,,11-(H22))) -> 0
I23: =IF(H23=0,,IF(H23>10,,11-(H23))) -> 0
I24: =IF(H24=0,,IF(H24>10,,11-(H24))) -> 0
I25: =IF(H25=0,,IF(H25>10,,11-(H25))) -> 0
I26: =IF(H26=0,,IF(H26>10,,11-(H26))) -> 0
I27: =IF(H27=0,,IF(H27>10,,11-(H27))) -> 0
I28: =IF(H28=0,,IF(H28>10,,11-(H28))) -> 0
I29: =IF(H29=0,,IF(H29>10,,11-(H29))) -> 0
... I33: =IF(H33=0,,IF(H33>10,,11-(H33))) -> 0
D34: GROUP 3 = 15 and Over
I35: =IF(H35=0,,IF(H35>10,,11-(H35))) -> 0
I36: =IF(H36=0,,IF(H36>10,,11-(H36))) -> 0
I37: =IF(H37=0,,IF(H37>10,,11-(H37))) -> 0
I38: =IF(H38=0,,IF(H38>10,,11-(H38))) -> 0
I39: =IF(H39=0,,IF(H39>10,,11-(H39))) -> 0
I40: =IF(H40=0,,IF(H40>10,,11-(H40))) -> 0
I41: =IF(H41=0,,IF(H41>10,,11-(H41))) -> 0
I42: =IF(H42=0,,IF(H42>10,,11-(H42))) -> 0
I43: =IF(H43=0,,IF(H43>10,,11-(H43))) -> 0
I44: =IF(H44=0,,IF(H44>10,,11-(H44))) -> 0
I45: =IF(H45=0,,IF(H45>10,,11-(H45))) -> 0
I46: =IF(H46=0,,IF(H46>10,,11-(H46))) -> 0
... I109: =IF(H109=0,,IF(H109>10,,11-(H109))) -> 0

Sheet Sheet1
A1: 1 | H1: Group 8 yrs & Under AIDED | AK1: FINAL
A2: 21 | F2: 2 | G2: 9yrs - 10yrs | H2: 1 | I2: Valentina Milzewski | J2: Flirtatious | K2: Runcorn | M2: =IF(L2=0,,IF(L2>10,,11-(L2))) -> 0 | O2: =IF(N2=0,,IF(N2>10,,11-(N2))) -> 0 | Q2: =IF(P2=0,,IF(P2>10,,11-(P2))) -> 0 | S2: =IF(R2=0,,IF(R2>10,,11-(R2))) -> 0 | V2: =IF(U2=0,,IF(U2>10,,11-(U2))) -> 0 | Y2: =IF(X2=0,,IF(X2>10,,11-(X2))) -> 0 | AB2: =IF(AA2=0,,IF(AA2>10,,11-(AA2))) -> 0 | AE2: =IF(AD2=0,,IF(AD2>10,,11-(AD2))) -> 0 | AH2: =IF(AG2=0,,IF(AG2>10,,11-(AG2))) -> 0 | AJ2: =M2+O2+Q2+V2+Y2+AB2+AE2+S2+AH2 -> 0 | AL2: =M2+O2+Q2+V2+Y2+AB2+AE2+S2+AH2 -> 0 | AM2: =M2+O2+Q2+V2+Y2+AB2+AE2+S2+AH2 -> 0 | AN2: =L2 -> 0 | AO2: =N2 -> 0 | AP2: =P2 -> 0 | AQ2: =R2 -> 0 | AR2: =U2 -> 0 | AS2: =X2 -> 0 | AT2: =AA2 -> 0 | AU2: =AD2 -> 0 | AV2: =AG2 -> 0
H3: 2 | I3: Ella Caffery | J3: Charlie | K3: Runcorn | M3: =IF(L3=0,,IF(L3>10,,11-(L3))) -> 0 | O3: =IF(N3=0,,IF(N3>10,,11-(N3))) -> 0 | Q3: =IF(P3=0,,IF(P3>10,,11-(P3))) -> 0 | S3: =IF(R3=0,,IF(R3>10,,11-(R3))) -> 0 | V3: =IF(U3=0,,IF(U3>10,,11-(U3))) -> 0 | Y3: =IF(X3=0,,IF(X3>10,,11-(X3))) -> 0 | AB3: =IF(AA3=0,,IF(AA3>10,,11-(AA3))) -> 0 | AE3: =IF(AD3=0,,IF(AD3>10,,11-(AD3))) -> 0 | AH3: =IF(AG3=0,,IF(AG3>10,,11-(AG3))) -> 0 | AJ3: =M3+O3+Q3+V3+Y3+AB3+AE3+S3+AH3 -> 0 | AL3: =M3+O3+Q3+V3+Y3+AB3+AE3+S3+AH3 -> 0 | AM3: =M3+O3+Q3+V3+Y3+AB3+AE3+S3+AH3 -> 0 | AN3: =L3 -> 0 | AO3: =N3 -> 0 | AP3: =P3 -> 0 | AQ3: =R3 -> 0 | AR3: =U3 -> 0 | AS3: =X3 -> 0 | AT3: =AA3 -> 0 | AU3: =AD3 -> 0 | AV3: =AG3 -> 0
H4: 3 | I4: Ruby Medcalf | J4: Snickers | K4: Southside | M4: =IF(L4=0,,IF(L4>10,,11-(L4))) -> 0 | O4: =IF(N4=0,,IF(N4>10,,11-(N4))) -> 0 | Q4: =IF(P4=0,,IF(P4>10,,11-(P4))) -> 0 | S4: =IF(R4=0,,IF(R4>10,,11-(R4))) -> 0 | V4: =IF(U4=0,,IF(U4>10,,11-(U4))) -> 0 | Y4: =IF(X4=0,,IF(X4>10,,11-(X4))) -> 0 | AB4: =IF(AA4=0,,IF(AA4>10,,11-(AA4))) -> 0 | AE4: =IF(AD4=0,,IF(AD4>10,,11-(AD4))) -> 0 | AH4: =IF(AG4=0,,IF(AG4>10,,11-(AG4))) -> 0 | AJ4: =M4+O4+Q4+V4+Y4+AB4+AE4+S4+AH4 -> 0 | AL4: =M4+O4+Q4+V4+Y4+AB4+AE4+S4+AH4 -> 0 | AM4: =M4+O4+Q4+V4+Y4+AB4+AE4+S4+AH4 -> 0 | AN4: =L4 -> 0 | AO4: =N4 -> 0 | AP4: =P4 -> 0 | AQ4: =R4 -> 0 | AR4: =U4 -> 0 | AS4: =X4 -> 0 | AT4: =AA4 -> 0 | AU4: =AD4 -> 0 | AV4: =AG4 -> 0
A5: 21 | F5: 2 | G5: 9yrs - 10yrs | H5: 4 | I5: Bonnie Brown | J5: Bentley | K5: Northern Suburbs | M5: =IF(L5=0,,IF(L5>10,,11-(L5))) -> 0 | O5: =IF(N5=0,,IF(N5>10,,11-(N5))) -> 0 | Q5: =IF(P5=0,,IF(P5>10,,11-(P5))) -> 0 | S5: =IF(R5=0,,IF(R5>10,,11-(R5))) -> 0 | V5: =IF(U5=0,,IF(U5>10,,11-(U5))) -> 0 | Y5: =IF(X5=0,,IF(X5>10,,11-(X5))) -> 0 | AB5: =IF(AA5=0,,IF(AA5>10,,11-(AA5))) -> 0 | AE5: =IF(AD5=0,,IF(AD5>10,,11-(AD5))) -> 0 | AH5: =IF(AG5=0,,IF(AG5>10,,11-(AG5))) -> 0 | AJ5: =M5+O5+Q5+V5+Y5+AB5+AE5+S5+AH5 -> 0 | AL5: =M5+O5+Q5+V5+Y5+AB5+AE5+S5+AH5 -> 0 | AM5: =M5+O5+Q5+V5+Y5+AB5+AE5+S5+AH5 -> 0 | AN5: =L5 -> 0 | AO5: =N5 -> 0 | AP5: =P5 -> 0 | AQ5: =R5 -> 0 | AR5: =U5 -> 0 | AS5: =X5 -> 0 | AT5: =AA5 -> 0 | AU5: =AD5 -> 0 | AV5: =AG5 -> 0
H6: 5 | I6: Mila Ionescu | J6: Pennylane Marigold | K6: Wynnum | M6: =IF(L6=0,,IF(L6>10,,11-(L6))) -> 0 | O6: =IF(N6=0,,IF(N6>10,,11-(N6))) -> 0 | Q6: =IF(P6=0,,IF(P6>10,,11-(P6))) -> 0 | S6: =IF(R6=0,,IF(R6>10,,11-(R6))) -> 0 | V6: =IF(U6=0,,IF(U6>10,,11-(U6))) -> 0 | Y6: =IF(X6=0,,IF(X6>10,,11-(X6))) -> 0 | AB6: =IF(AA6=0,,IF(AA6>10,,11-(AA6))) -> 0 | AE6: =IF(AD6=0,,IF(AD6>10,,11-(AD6))) -> 0 | AH6: =IF(AG6=0,,IF(AG6>10,,11-(AG6))) -> 0 | AJ6: =M6+O6+Q6+V6+Y6+AB6+AE6+S6+AH6 -> 0 | AL6: =M6+O6+Q6+V6+Y6+AB6+AE6+S6+AH6 -> 0 | AM6: =M6+O6+Q6+V6+Y6+AB6+AE6+S6+AH6 -> 0 | AN6: =L6 -> 0 | AO6: =N6 -> 0 | AP6: =P6 -> 0 | AQ6: =R6 -> 0 | AR6: =U6 -> 0 | AS6: =X6 -> 0 | AT6: =AA6 -> 0 | AU6: =AD6 -> 0 | AV6: =AG6 -> 0
H7: 6 | I7: Milton Kennedy | J7: Missy | K7: Southside | M7: =IF(L7=0,,IF(L7>10,,11-(L7))) -> 0 | O7: =IF(N7=0,,IF(N7>10,,11-(N7))) -> 0 | Q7: =IF(P7=0,,IF(P7>10,,11-(P7))) -> 0 | S7: =IF(R7=0,,IF(R7>10,,11-(R7))) -> 0 | V7: =IF(U7=0,,IF(U7>10,,11-(U7))) -> 0 | Y7: =IF(X7=0,,IF(X7>10,,11-(X7))) -> 0 | AB7: =IF(AA7=0,,IF(AA7>10,,11-(AA7))) -> 0 | AE7: =IF(AD7=0,,IF(AD7>10,,11-(AD7))) -> 0 | AH7: =IF(AG7=0,,IF(AG7>10,,11-(AG7))) -> 0 | AJ7: =M7+O7+Q7+V7+Y7+AB7+AE7+S7+AH7 -> 0 | AL7: =M7+O7+Q7+V7+Y7+AB7+AE7+S7+AH7 -> 0 | AM7: =M7+O7+Q7+V7+Y7+AB7+AE7+S7+AH7 -> 0 | AN7: =L7 -> 0 | AO7: =N7 -> 0 | AP7: =P7 -> 0 | AQ7: =R7 -> 0 | AR7: =U7 -> 0 | AS7: =X7 -> 0 | AT7: =AA7 -> 0 | AU7: =AD7 -> 0 | AV7: =AG7 -> 0
A8: 21 | F8: 2 | G8: 9yrs - 10yrs | H8: 7 | I8: Sienna Horn | J8: Bear | K8: Runcorn | M8: =IF(L8=0,,IF(L8>10,,11-(L8))) -> 0 | O8: =IF(N8=0,,IF(N8>10,,11-(N8))) -> 0 | Q8: =IF(P8=0,,IF(P8>10,,11-(P8))) -> 0 | S8: =IF(R8=0,,IF(R8>10,,11-(R8))) -> 0 | V8: =IF(U8=0,,IF(U8>10,,11-(U8))) -> 0 | Y8: =IF(X8=0,,IF(X8>10,,11-(X8))) -> 0 | AB8: =IF(AA8=0,,IF(AA8>10,,11-(AA8))) -> 0 | AE8: =IF(AD8=0,,IF(AD8>10,,11-(AD8))) -> 0 | AH8: =IF(AG8=0,,IF(AG8>10,,11-(AG8))) -> 0 | AJ8: =M8+O8+Q8+V8+Y8+AB8+AE8+S8+AH8 -> 0 | AL8: =M8+O8+Q8+V8+Y8+AB8+AE8+S8+AH8 -> 0 | AM8: =M8+O8+Q8+V8+Y8+AB8+AE8+S8+AH8 -> 0 | AN8: =L8 -> 0 | AO8: =N8 -> 0 | AP8: =P8 -> 0 | AQ8: =R8 -> 0 | AR8: =U8 -> 0 | AS8: =X8 -> 0 | AT8: =AA8 -> 0 | AU8: =AD8 -> 0 | AV8: =AG8 -> 0
H9: 8 | I9: Aubree Makemson | J9: Stormy | K9: Southside | M9: =IF(L9=0,,IF(L9>10,,11-(L9))) -> 0 | O9: =IF(N9=0,,IF(N9>10,,11-(N9))) -> 0 | Q9: =IF(P9=0,,IF(P9>10,,11-(P9))) -> 0 | S9: =IF(R9=0,,IF(R9>10,,11-(R9))) -> 0 | V9: =IF(U9=0,,IF(U9>10,,11-(U9))) -> 0 | Y9: =IF(X9=0,,IF(X9>10,,11-(X9))) -> 0 | AB9: =IF(AA9=0,,IF(AA9>10,,11-(AA9))) -> 0 | AE9: =IF(AD9=0,,IF(AD9>10,,11-(AD9))) -> 0 | AH9: =IF(AG9=0,,IF(AG9>10,,11-(AG9))) -> 0 | AJ9: =M9+O9+Q9+V9+Y9+AB9+AE9+S9+AH9 -> 0 | AL9: =M9+O9+Q9+V9+Y9+AB9+AE9+S9+AH9 -> 0 | AM9: =M9+O9+Q9+V9+Y9+AB9+AE9+S9+AH9 -> 0 | AN9: =L9 -> 0 | AO9: =N9 -> 0 | AP9: =P9 -> 0 | AQ9: =R9 -> 0 | AR9: =U9 -> 0 | AS9: =X9 -> 0 | AT9: =AA9 -> 0 | AU9: =AD9 -> 0 | AV9: =AG9 -> 0
H10: 9 | I10: Madeline Makemson | J10: Belle | K10: Southside | M10: =IF(L10=0,,IF(L10>10,,11-(L10))) -> 0 | O10: =IF(N10=0,,IF(N10>10,,11-(N10))) -> 0 | Q10: =IF(P10=0,,IF(P10>10,,11-(P10))) -> 0 | S10: =IF(R10=0,,IF(R10>10,,11-(R10))) -> 0 | V10: =IF(U10=0,,IF(U10>10,,11-(U10))) -> 0 | Y10: =IF(X10=0,,IF(X10>10,,11-(X10))) -> 0 | AB10: =IF(AA10=0,,IF(AA10>10,,11-(AA10))) -> 0 | AE10: =IF(AD10=0,,IF(AD10>10,,11-(AD10))) -> 0 | AH10: =IF(AG10=0,,IF(AG10>10,,11-(AG10))) -> 0 | AJ10: =M10+O10+Q10+V10+Y10+AB10+AE10+S10+AH10 -> 0 | AL10: =M10+O10+Q10+V10+Y10+AB10+AE10+S10+AH10 -> 0 | AM10: =M10+O10+Q10+V10+Y10+AB10+AE10+S10+AH10 -> 0 | AN10: =L10 -> 0 | AO10: =N10 -> 0 | AP10: =P10 -> 0 | AQ10: =R10 -> 0 | AR10: =U10 -> 0 | AS10: =X10 -> 0 | AT10: =AA10 -> 0 | AU10: =AD10 -> 0 | AV10: =AG10 -> 0

Sheet Nominations
A1: Sort | B1: Entry Id | C1: NOTES | D1: Zone 1 | E1: New | F1: Class | G1: Age Group | H1: Rider # | I1: Rider Name | J1: Horse | K1: Club
A2: 1 | B2: Full Gym | E2: Yes | G2: 8 yrs & Under | H2: 1 | I2: Hayden Tubman | J2: Liccorice | K2: Ipswich | M2: Darra | N2: z
A3: 108 | B3: Full Gym | C3: Moved 9yr to Mini | G3: 9yrs - 10yrs | H3: 21 | I3: Jessica Mann | J3: Indianna | K3: Darra | M3: Hendra | N3: z
A4: 37 | B4: Full Gym | E4: Yes | G4: 11yrs - 12yrs | H4: 36 | I4: Amelia Moar | J4: Chico’s Sweet Oreo | K4: Darra | M4: Mogill | N4: z
A5: 47 | G5: 11yrs - 12yrs | H5: 45 | I5: Izzy Bust | J5: Coltie | K5: Darra | M5: Nth Suburbs | N5: z
A6: 48 | G6: 11yrs - 12yrs | H6: 46 | I6: Angel Bust | J6: Red | K6: Darra | M6: Redlands | N6: z
A7: 57 | B7: Full Gym | E7: Yes | G7: 13yrs - 14 yrs | H7: 54 | I7: Lulu CARPENTER | J7: Shamrock Special | K7: Darra | M7: Runcorn | N7: z
A8: 74 | B8: Full Gym | E8: Yes | G8: 17yrs - 25yrs | H8: 71 | I8: Kiara Lowe | J8: Tyson | K8: Darra | M8: Samford | N8: z
A9: 77 | B9: Full Gym | G9: 17yrs - 25yrs | H9: 74 | I9: Emily Lynch | J9: Smarty | K9: Darra | M9: Southside | N9: z
A10: 78 | B10: Full Gym | E10: Yes | G10: 17yrs - 25yrs | H10: 75 | I10: Chloe Boyd | J10: Cookie | K10: Darra | M10: Wynnum | N10: z
A11: 79 | B11: Full Gym | E11: Yes | G11: 17yrs - 25yrs | H11: 76 | I11: Morgen Douglas | J11: Titanium Diamonds | K11: Darra | M11: Dayboro
A12: 85 | B12: Full Gym | G12: 17yrs - 25yrs | H12: 82 | I12: Jayd Yates-Martin | K12: Darra | M12: Ipswich
A13: 92 | B13: Full Gym | E13: Yes | G13: Seniors | H13: 89 | I13: Alina White | J13: James | K13: Darra | M13: Maroochy
A14: 96 | B14: Mini Gym | E14: Yes | G14: MiniGym | H14: 93 | I14: Ella-Marie Baker | J14: Honey | K14: Darra | M14: Mt Mee
A15: 76 | B15: Full Gym | G15: 17yrs - 25yrs | H15: 73 | I15: Sharryn Livingstone | J15: Coen | K15: Dayboro | M15: Nambour
A16: 46 | B16: Full Gym | G16: 11yrs - 12yrs | H16: 44 | I16: Mia Gilmour | J16: Glenelgs Pandora | K16: Hendra | M16: Pine Rivers
A17: 50 | B17: Full Gym | C17: scratched | G17: 13yrs - 14 yrs | H17: 48 | I17: Emma Dillon | J17: Leo | K17: Hendra | M17: Tambourine
A18: 51 | B18: Full Gym | E18: Yes | G18: 13yrs - 14 yrs | H18: 49 | I18: Taylor McConnell | J18: Pegasus | K18: Hendra | M18: Toorbul
A19: 59 | B19: Full Gym | E19: Yes | G19: 13yrs - 14 yrs | H19: 56 | I19: Mirabella Heaton | J19: Ollie | K19: Hendra
A20: 60 | B20: Full Gym | G20: 13yrs - 14 yrs | H20: 57 | I20: Kate Lister | J20: Conway Park Exquisite | K20: Hendra
A21: 62 | B21: Full Gym | G21: 13yrs - 14 yrs | H21: 59 | I21: Eloise Curran | J21: Poppy | K21: Hendra
A22: 63 | B22: Full Gym | E22: Yes | G22: 13yrs - 14 yrs | H22: 60 | I22: Gracie Hyne | J22: Chrystal | K22: Hendra
A23: 69 | B23: Full Gym | G23: 13yrs - 14 yrs | H23: 66 | I23: Anabella Wardle | J23: Warrior Princess | K23: Hendra
A24: 83 | B24: Full Gym | G24: 17yrs - 25yrs | H24: 80 | I24: Sarah Gant | J24: My Lovely Boy | K24: Hendra
A25: 45 | B25: Full Gym | G25: 11yrs - 12yrs | I25: Caitlyn Robinson | J25: Rodborough Safir | K25: Hendra
A26: 25 | B26: Full Gym | E26: Yes | G26: 11yrs - 12yrs | H26: 24 | I26: Liana Murphy | J26: atomic | K26: Maroochy
A27: 34 | B27: Full Gym | E27: Yes | G27: 11yrs - 12yrs | H27: 33 | I27: Rachael Stringer | J27: Bailey | K27: Maroochy
A28: 52 | B28: Full Gym | E28: Yes | G28: 13yrs - 14 yrs | H28: 50 | I28: Calli Robertson | J28: Buzz Lightyear | K28: Maroochy
